BEGIN:VCALENDAR
VERSION:2.0
PRODID:-//Lake Barrington Shores - ECPv6.15.17//NONSGML v1.0//EN
CALSCALE:GREGORIAN
METHOD:PUBLISH
X-WR-CALNAME:Lake Barrington Shores
X-ORIGINAL-URL:https://www.lakebarringtonshores.org
X-WR-CALDESC:Events for Lake Barrington Shores
REFRESH-INTERVAL;VALUE=DURATION:PT1H
X-Robots-Tag:noindex
X-PUBLISHED-TTL:PT1H
BEGIN:VTIMEZONE
TZID:America/Chicago
BEGIN:DAYLIGHT
TZOFFSETFROM:-0600
TZOFFSETTO:-0500
TZNAME:CDT
DTSTART:20200308T080000
END:DAYLIGHT
BEGIN:STANDARD
TZOFFSETFROM:-0500
TZOFFSETTO:-0600
TZNAME:CST
DTSTART:20201101T070000
END:STANDARD
BEGIN:DAYLIGHT
TZOFFSETFROM:-0600
TZOFFSETTO:-0500
TZNAME:CDT
DTSTART:20210314T080000
END:DAYLIGHT
BEGIN:STANDARD
TZOFFSETFROM:-0500
TZOFFSETTO:-0600
TZNAME:CST
DTSTART:20211107T070000
END:STANDARD
BEGIN:DAYLIGHT
TZOFFSETFROM:-0600
TZOFFSETTO:-0500
TZNAME:CDT
DTSTART:20220313T080000
END:DAYLIGHT
BEGIN:STANDARD
TZOFFSETFROM:-0500
TZOFFSETTO:-0600
TZNAME:CST
DTSTART:20221106T070000
END:STANDARD
END:VTIMEZONE
BEGIN:VEVENT
DTSTART;TZID=America/Chicago:20211208T080000
DTEND;TZID=America/Chicago:20211208T090000
DTSTAMP:20260424T064028
CREATED:20211207T211207Z
LAST-MODIFIED:20211207T211207Z
UID:28346-1638950400-1638954000@www.lakebarringtonshores.org
SUMMARY:Water Aerobics
DESCRIPTION:Water Aerobics meets Monday\, Wednesdays\, and Fridays from 8:00am – 9:00am. Instructor is certified.
URL:https://www.lakebarringtonshores.org/event/water-aerobics/
END:VEVENT
BEGIN:VEVENT
DTSTART;TZID=America/Chicago:20210809T090000
DTEND;TZID=America/Chicago:20210809T110000
DTSTAMP:20260424T064028
CREATED:20210809T184204Z
LAST-MODIFIED:20210809T184204Z
UID:25303-1628499600-1628506800@www.lakebarringtonshores.org
SUMMARY:Pickle Ball
DESCRIPTION:Group meets Monday\, Wednesday\, and Friday from 9:00am – 11:00am on the pickle ball courts. \nGroup also meets on Wednesdays at 6:00pm. \nThere is no charge to participate.
URL:https://www.lakebarringtonshores.org/event/pickle-ball/
END:VEVENT
END:VCALENDAR