BEGIN:VCALENDAR
VERSION:2.0
PRODID:-//Lake Barrington Shores - ECPv6.15.17//NONSGML v1.0//EN
CALSCALE:GREGORIAN
METHOD:PUBLISH
X-ORIGINAL-URL:https://www.lakebarringtonshores.org
X-WR-CALDESC:Events for Lake Barrington Shores
REFRESH-INTERVAL;VALUE=DURATION:PT1H
X-Robots-Tag:noindex
X-PUBLISHED-TTL:PT1H
BEGIN:VTIMEZONE
TZID:America/Chicago
BEGIN:DAYLIGHT
TZOFFSETFROM:-0600
TZOFFSETTO:-0500
TZNAME:CDT
DTSTART:20240310T080000
END:DAYLIGHT
BEGIN:STANDARD
TZOFFSETFROM:-0500
TZOFFSETTO:-0600
TZNAME:CST
DTSTART:20241103T070000
END:STANDARD
BEGIN:DAYLIGHT
TZOFFSETFROM:-0600
TZOFFSETTO:-0500
TZNAME:CDT
DTSTART:20250309T080000
END:DAYLIGHT
BEGIN:STANDARD
TZOFFSETFROM:-0500
TZOFFSETTO:-0600
TZNAME:CST
DTSTART:20251102T070000
END:STANDARD
BEGIN:DAYLIGHT
TZOFFSETFROM:-0600
TZOFFSETTO:-0500
TZNAME:CDT
DTSTART:20260308T080000
END:DAYLIGHT
BEGIN:STANDARD
TZOFFSETFROM:-0500
TZOFFSETTO:-0600
TZNAME:CST
DTSTART:20261101T070000
END:STANDARD
END:VTIMEZONE
BEGIN:VEVENT
DTSTART;TZID=America/Chicago:20250207T180000
DTEND;TZID=America/Chicago:20250207T210000
DTSTAMP:20260425T162513
CREATED:20250110T221158Z
LAST-MODIFIED:20250110T221159Z
UID:32913-1738951200-1738962000@www.lakebarringtonshores.org
SUMMARY:Dueling Piano Dinner Show
DESCRIPTION:
URL:https://www.lakebarringtonshores.org/event/dueling-piano-dinner-show-2/
CATEGORIES:Featured,Special Event
ATTACH;FMTTYPE=image/jpeg:https://www.lakebarringtonshores.org/wp-content/uploads/2025/01/HD-wallpaper-piano-heart-pretty-3d-graphy-music-love-heart-abstract-piano.jpg
END:VEVENT
END:VCALENDAR