BEGIN:VCALENDAR
VERSION:2.0
PRODID:-//Lake Barrington Shores - ECPv6.15.17//NONSGML v1.0//EN
CALSCALE:GREGORIAN
METHOD:PUBLISH
X-ORIGINAL-URL:https://www.lakebarringtonshores.org
X-WR-CALDESC:Events for Lake Barrington Shores
REFRESH-INTERVAL;VALUE=DURATION:PT1H
X-Robots-Tag:noindex
X-PUBLISHED-TTL:PT1H
BEGIN:VTIMEZONE
TZID:America/Chicago
BEGIN:DAYLIGHT
TZOFFSETFROM:-0600
TZOFFSETTO:-0500
TZNAME:CDT
DTSTART:20210314T080000
END:DAYLIGHT
BEGIN:STANDARD
TZOFFSETFROM:-0500
TZOFFSETTO:-0600
TZNAME:CST
DTSTART:20211107T070000
END:STANDARD
BEGIN:DAYLIGHT
TZOFFSETFROM:-0600
TZOFFSETTO:-0500
TZNAME:CDT
DTSTART:20220313T080000
END:DAYLIGHT
BEGIN:STANDARD
TZOFFSETFROM:-0500
TZOFFSETTO:-0600
TZNAME:CST
DTSTART:20221106T070000
END:STANDARD
BEGIN:DAYLIGHT
TZOFFSETFROM:-0600
TZOFFSETTO:-0500
TZNAME:CDT
DTSTART:20230312T080000
END:DAYLIGHT
BEGIN:STANDARD
TZOFFSETFROM:-0500
TZOFFSETTO:-0600
TZNAME:CST
DTSTART:20231105T070000
END:STANDARD
BEGIN:DAYLIGHT
TZOFFSETFROM:-0600
TZOFFSETTO:-0500
TZNAME:CDT
DTSTART:20240310T080000
END:DAYLIGHT
BEGIN:STANDARD
TZOFFSETFROM:-0500
TZOFFSETTO:-0600
TZNAME:CST
DTSTART:20241103T070000
END:STANDARD
END:VTIMEZONE
BEGIN:VEVENT
DTSTART;TZID=America/Chicago:20230228T190000
DTEND;TZID=America/Chicago:20230228T203000
DTSTAMP:20260425T053028
CREATED:20230130T151549Z
LAST-MODIFIED:20230130T151549Z
UID:31132-1677610800-1677616200@www.lakebarringtonshores.org
SUMMARY:CPR Class
DESCRIPTION:
URL:https://www.lakebarringtonshores.org/event/cpr-class/
CATEGORIES:Featured,Special Event
ATTACH;FMTTYPE=image/jpeg:https://www.lakebarringtonshores.org/wp-content/uploads/2017/02/CPR.jpg
END:VEVENT
BEGIN:VEVENT
DTSTART;TZID=America/Chicago:20230125T190000
DTEND;TZID=America/Chicago:20230125T210000
DTSTAMP:20260425T053028
CREATED:20230112T151229Z
LAST-MODIFIED:20230112T151229Z
UID:30732-1674673200-1674680400@www.lakebarringtonshores.org
SUMMARY:Beat The Chill - Game Nights!
DESCRIPTION:
URL:https://www.lakebarringtonshores.org/event/beat-the-chill-game-nights/
CATEGORIES:Featured,Special Event
ATTACH;FMTTYPE=image/jpeg:https://www.lakebarringtonshores.org/wp-content/uploads/2023/01/game-night.jpg
END:VEVENT
BEGIN:VEVENT
DTSTART;TZID=America/Chicago:20230215T100000
DTEND;TZID=America/Chicago:20230215T113000
DTSTAMP:20260425T053028
CREATED:20230111T195814Z
LAST-MODIFIED:20230111T195814Z
UID:30722-1676455200-1676460600@www.lakebarringtonshores.org
SUMMARY:DAR Genealogy Workshops
DESCRIPTION:
URL:https://www.lakebarringtonshores.org/event/dar-genealogy-workshops/
CATEGORIES:Featured,Special Event
END:VEVENT
BEGIN:VEVENT
DTSTART;TZID=America/Chicago:20230215T100000
DTEND;TZID=America/Chicago:20230215T113000
DTSTAMP:20260425T053028
CREATED:20230111T195814Z
LAST-MODIFIED:20230111T195814Z
UID:30722-1676455200-1676460600@www.lakebarringtonshores.org
SUMMARY:DAR Genealogy Workshops
DESCRIPTION:
URL:https://www.lakebarringtonshores.org/event/dar-genealogy-workshops/
CATEGORIES:Featured,Special Event
END:VEVENT
BEGIN:VEVENT
DTSTART;TZID=America/Chicago:20230125T190000
DTEND;TZID=America/Chicago:20230125T210000
DTSTAMP:20260425T053028
CREATED:20230112T151229Z
LAST-MODIFIED:20230112T151229Z
UID:30732-1674673200-1674680400@www.lakebarringtonshores.org
SUMMARY:Beat The Chill - Game Nights!
DESCRIPTION:
URL:https://www.lakebarringtonshores.org/event/beat-the-chill-game-nights/
CATEGORIES:Featured,Special Event
ATTACH;FMTTYPE=image/jpeg:https://www.lakebarringtonshores.org/wp-content/uploads/2023/01/game-night.jpg
END:VEVENT
BEGIN:VEVENT
DTSTART;TZID=America/Chicago:20230109T130000
DTEND;TZID=America/Chicago:20230109T150000
DTSTAMP:20260425T053028
CREATED:20221005T225857Z
LAST-MODIFIED:20221005T225857Z
UID:30283-1673269200-1673276400@www.lakebarringtonshores.org
SUMMARY:Winter Weaving Workshop
DESCRIPTION:
URL:https://www.lakebarringtonshores.org/event/winter-weaving-workshop/
CATEGORIES:Featured,Special Event
END:VEVENT
BEGIN:VEVENT
DTSTART;TZID=America/Chicago:20230109T130000
DTEND;TZID=America/Chicago:20230109T150000
DTSTAMP:20260425T053028
CREATED:20221005T225857Z
LAST-MODIFIED:20221005T225857Z
UID:30283-1673269200-1673276400@www.lakebarringtonshores.org
SUMMARY:Winter Weaving Workshop
DESCRIPTION:
URL:https://www.lakebarringtonshores.org/event/winter-weaving-workshop/
CATEGORIES:Featured,Special Event
END:VEVENT
BEGIN:VEVENT
DTSTART;TZID=America/Chicago:20230109T130000
DTEND;TZID=America/Chicago:20230109T150000
DTSTAMP:20260425T053028
CREATED:20221005T225857Z
LAST-MODIFIED:20221005T225857Z
UID:30283-1673269200-1673276400@www.lakebarringtonshores.org
SUMMARY:Winter Weaving Workshop
DESCRIPTION:
URL:https://www.lakebarringtonshores.org/event/winter-weaving-workshop/
CATEGORIES:Featured,Special Event
END:VEVENT
BEGIN:VEVENT
DTSTART;TZID=America/Chicago:20221231T210000
DTEND;TZID=America/Chicago:20230101T210000
DTSTAMP:20260425T053028
CREATED:20221117T021806Z
LAST-MODIFIED:20221117T021806Z
UID:30476-1672520400-1672606800@www.lakebarringtonshores.org
SUMMARY:New Year's Eve Party
DESCRIPTION:
URL:https://www.lakebarringtonshores.org/event/new-years-eve-party-6/
CATEGORIES:Featured,Special Event
ATTACH;FMTTYPE=image/png:https://www.lakebarringtonshores.org/wp-content/uploads/2021/12/1120x630-65.png
END:VEVENT
BEGIN:VEVENT
DTSTART;TZID=America/Chicago:20221214T093000
DTEND;TZID=America/Chicago:20221214T110000
DTSTAMP:20260425T053028
CREATED:20221117T022054Z
LAST-MODIFIED:20221117T022102Z
UID:30479-1671010200-1671015600@www.lakebarringtonshores.org
SUMMARY:Holiday Movies & Music
DESCRIPTION:
URL:https://www.lakebarringtonshores.org/event/holiday-movies-music/
CATEGORIES:Featured,Special Event
END:VEVENT
BEGIN:VEVENT
DTSTART;TZID=America/Chicago:20221210T083000
DTEND;TZID=America/Chicago:20221210T123000
DTSTAMP:20260425T053028
CREATED:20220908T172909Z
LAST-MODIFIED:20220908T172918Z
UID:30162-1670661000-1670675400@www.lakebarringtonshores.org
SUMMARY:Breakfast with Santa
DESCRIPTION:
URL:https://www.lakebarringtonshores.org/event/breakfast-with-santa-5/
CATEGORIES:Featured,Special Event
ATTACH;FMTTYPE=image/png:https://www.lakebarringtonshores.org/wp-content/uploads/2022/09/Document.png
END:VEVENT
BEGIN:VEVENT
DTSTART;TZID=America/Chicago:20221207T160000
DTEND;TZID=America/Chicago:20221207T210000
DTSTAMP:20260425T053028
CREATED:20220907T172554Z
LAST-MODIFIED:20220907T172554Z
UID:30150-1670428800-1670446800@www.lakebarringtonshores.org
SUMMARY:Lightscape at Chicago Botanic Garden
DESCRIPTION:
URL:https://www.lakebarringtonshores.org/event/lightscape-at-chicago-botanic-garden/
CATEGORIES:Featured,Special Event
END:VEVENT
BEGIN:VEVENT
DTSTART;TZID=America/Chicago:20220912T130000
DTEND;TZID=America/Chicago:20220912T143000
DTSTAMP:20260425T053028
CREATED:20220825T173715Z
LAST-MODIFIED:20220825T173715Z
UID:30077-1662987600-1662993000@www.lakebarringtonshores.org
SUMMARY:Cutting the Cord
DESCRIPTION:
URL:https://www.lakebarringtonshores.org/event/cutting-the-cord/
CATEGORIES:Featured,Special Event
ATTACH;FMTTYPE=image/jpeg:https://www.lakebarringtonshores.org/wp-content/uploads/2022/08/cutting-the-cord-e1512573368902.jpg
END:VEVENT
BEGIN:VEVENT
DTSTART;TZID=America/Chicago:20220912T130000
DTEND;TZID=America/Chicago:20220912T143000
DTSTAMP:20260425T053028
CREATED:20220825T173715Z
LAST-MODIFIED:20220825T173715Z
UID:30077-1662987600-1662993000@www.lakebarringtonshores.org
SUMMARY:Cutting the Cord
DESCRIPTION:
URL:https://www.lakebarringtonshores.org/event/cutting-the-cord/
CATEGORIES:Featured,Special Event
ATTACH;FMTTYPE=image/jpeg:https://www.lakebarringtonshores.org/wp-content/uploads/2022/08/cutting-the-cord-e1512573368902.jpg
END:VEVENT
BEGIN:VEVENT
DTSTART;TZID=America/Chicago:20221111T110000
DTEND;TZID=America/Chicago:20221111T123000
DTSTAMP:20260425T053028
CREATED:20221025T154308Z
LAST-MODIFIED:20221025T154309Z
UID:30378-1668164400-1668169800@www.lakebarringtonshores.org
SUMMARY:Veterans Day
DESCRIPTION:
URL:https://www.lakebarringtonshores.org/event/veterans-day/
CATEGORIES:Featured,Special Event
ATTACH;FMTTYPE=image/jpeg:https://www.lakebarringtonshores.org/wp-content/uploads/2016/10/happy_veterans_day.jpg
END:VEVENT
BEGIN:VEVENT
DTSTART;TZID=America/Chicago:20221110T190000
DTEND;TZID=America/Chicago:20221110T200000
DTSTAMP:20260425T053028
CREATED:20220908T172704Z
LAST-MODIFIED:20220908T172705Z
UID:30158-1668106800-1668110400@www.lakebarringtonshores.org
SUMMARY:Big Winter Books
DESCRIPTION:
URL:https://www.lakebarringtonshores.org/event/big-winter-books/
CATEGORIES:Featured,Special Event
ATTACH;FMTTYPE=image/jpeg:https://www.lakebarringtonshores.org/wp-content/uploads/2022/09/U2LKI5Q7KZETFG5646R3MOUTRE.jpg
END:VEVENT
BEGIN:VEVENT
DTSTART;TZID=America/Chicago:20221110T093000
DTEND;TZID=America/Chicago:20221110T110000
DTSTAMP:20260425T053028
CREATED:20220803T235120Z
LAST-MODIFIED:20220803T235137Z
UID:29972-1668072600-1668078000@www.lakebarringtonshores.org
SUMMARY:The Man in Black: The Life of Johnny Cash
DESCRIPTION:The Man in Black: The Life of Johnny Cash:  Thursday\, November 10th – The Lodge Ballroom \nBorn as John (J.R.) Cash to a poor cotton-farming family in Arkansas\, he would strive for a deeper meaning in his music throughout his life—bringing to light the injustices\, pain\, and strife in the world. He received his trademarked nickname\, “The Man in Black\,” due to his somber attire of all black during his concerts. Historical Presenter\, Michelle Gibbons\, will take you into the life\, love\, struggles and stardom of Johnny Cash. Gibbons will discuss Cash’s famous albums and songs\, including: “Folsom Prison Blues;” “I Walk the Line;” “Ring of Fire;” “Get Rhythm;” “Man in Black;” and more. She will also discuss Cash’s unconditional love for his wife\, June Carter\, and how their romantic undying love for each other and inspired the 2005 movie\, Walk the Line. \nEvery month begins with coffee\, breakfast pastries\, and conversation at 9:30am. Program follows at 10:00am in the Ballroom. You must pre-register at the LBS Management Office. Cost is $5 / person.
URL:https://www.lakebarringtonshores.org/event/the-man-in-black-the-life-of-johnny-cash/
CATEGORIES:Featured,Special Event
END:VEVENT
BEGIN:VEVENT
DTSTART;TZID=America/Chicago:20221104T170000
DTEND;TZID=America/Chicago:20221104T200000
DTSTAMP:20260425T053028
CREATED:20221025T154539Z
LAST-MODIFIED:20221025T154539Z
UID:30381-1667581200-1667592000@www.lakebarringtonshores.org
SUMMARY:Holiday Arts and Gift Show
DESCRIPTION:
URL:https://www.lakebarringtonshores.org/event/holiday-arts-and-gift-show-6/
CATEGORIES:Featured,Special Event
ATTACH;FMTTYPE=image/jpeg:https://www.lakebarringtonshores.org/wp-content/uploads/2016/09/holiday-art-show.jpg
END:VEVENT
BEGIN:VEVENT
DTSTART;TZID=America/Chicago:20221104T170000
DTEND;TZID=America/Chicago:20221104T200000
DTSTAMP:20260425T053028
CREATED:20221025T154539Z
LAST-MODIFIED:20221025T154539Z
UID:30381-1667581200-1667592000@www.lakebarringtonshores.org
SUMMARY:Holiday Arts and Gift Show
DESCRIPTION:
URL:https://www.lakebarringtonshores.org/event/holiday-arts-and-gift-show-6/
CATEGORIES:Featured,Special Event
ATTACH;FMTTYPE=image/jpeg:https://www.lakebarringtonshores.org/wp-content/uploads/2016/09/holiday-art-show.jpg
END:VEVENT
BEGIN:VEVENT
DTSTART;TZID=America/Chicago:20220912T130000
DTEND;TZID=America/Chicago:20220912T143000
DTSTAMP:20260425T053028
CREATED:20220825T173715Z
LAST-MODIFIED:20220825T173715Z
UID:30077-1662987600-1662993000@www.lakebarringtonshores.org
SUMMARY:Cutting the Cord
DESCRIPTION:
URL:https://www.lakebarringtonshores.org/event/cutting-the-cord/
CATEGORIES:Featured,Special Event
ATTACH;FMTTYPE=image/jpeg:https://www.lakebarringtonshores.org/wp-content/uploads/2022/08/cutting-the-cord-e1512573368902.jpg
END:VEVENT
BEGIN:VEVENT
DTSTART;TZID=America/Chicago:20221025T090000
DTEND;TZID=America/Chicago:20221025T130000
DTSTAMP:20260425T053028
CREATED:20220812T163643Z
LAST-MODIFIED:20220812T163643Z
UID:30012-1666688400-1666702800@www.lakebarringtonshores.org
SUMMARY:AARP Driver Safety Class
DESCRIPTION:
URL:https://www.lakebarringtonshores.org/event/aarp-driver-safety-class-3/
CATEGORIES:Featured,Special Event
ATTACH;FMTTYPE=image/jpeg:https://www.lakebarringtonshores.org/wp-content/uploads/2017/07/thPRIRIYSI.jpg
END:VEVENT
BEGIN:VEVENT
DTSTART;TZID=America/Chicago:20221025T090000
DTEND;TZID=America/Chicago:20221025T130000
DTSTAMP:20260425T053028
CREATED:20220812T163643Z
LAST-MODIFIED:20220812T163643Z
UID:30012-1666688400-1666702800@www.lakebarringtonshores.org
SUMMARY:AARP Driver Safety Class
DESCRIPTION:
URL:https://www.lakebarringtonshores.org/event/aarp-driver-safety-class-3/
CATEGORIES:Featured,Special Event
ATTACH;FMTTYPE=image/jpeg:https://www.lakebarringtonshores.org/wp-content/uploads/2017/07/thPRIRIYSI.jpg
END:VEVENT
BEGIN:VEVENT
DTSTART;TZID=America/Chicago:20221023T171500
DTEND;TZID=America/Chicago:20221023T200000
DTSTAMP:20260425T053028
CREATED:20220811T173833Z
LAST-MODIFIED:20220811T173834Z
UID:30008-1666545300-1666555200@www.lakebarringtonshores.org
SUMMARY:Haunted Hike
DESCRIPTION:
URL:https://www.lakebarringtonshores.org/event/haunted-hike-2/
CATEGORIES:Featured,Special Event
ATTACH;FMTTYPE=image/jpeg:https://www.lakebarringtonshores.org/wp-content/uploads/2021/09/IMG_1011.jpg
END:VEVENT
BEGIN:VEVENT
DTSTART;TZID=America/Chicago:20221019T190000
DTEND;TZID=America/Chicago:20221019T203000
DTSTAMP:20260425T053028
CREATED:20221018T142933Z
LAST-MODIFIED:20221018T142934Z
UID:30342-1666206000-1666211400@www.lakebarringtonshores.org
SUMMARY:Military Speakers Bureau
DESCRIPTION:
URL:https://www.lakebarringtonshores.org/event/military-speakers-bureau/
CATEGORIES:Featured,Special Event
END:VEVENT
BEGIN:VEVENT
DTSTART;TZID=America/Chicago:20221013T093000
DTEND;TZID=America/Chicago:20221013T110000
DTSTAMP:20260425T053028
CREATED:20220803T233758Z
LAST-MODIFIED:20220803T233807Z
UID:29968-1665653400-1665658800@www.lakebarringtonshores.org
SUMMARY:Haunted History of the Midwest
DESCRIPTION:Haunted History of the Midwest: Thursday\, October 13th \nSit back and listen\, if you dare\, to the entertaining and chilling tales of the historical hauntings of the Midwest. Stories of the S.S. Eastland\, Brookfield Zoo\, Fort Dearborn Massacre\, and John Dillinger (to name just a few) help to guarantee spooky goosebumps while learning a bit of history at the same time! Presented by Terrence Lynch. \nEvery month begins with coffee\, breakfast pastries\, and conversation at 9:30am. Program follows at 10:00am in the Ballroom. You must pre-register at the LBS Management Office. Cost is $5 / person.
URL:https://www.lakebarringtonshores.org/event/haunted-history-of-the-midwest/
CATEGORIES:Featured,Special Event
ATTACH;FMTTYPE=image/jpeg:https://www.lakebarringtonshores.org/wp-content/uploads/2022/08/C1209_Fort_Dearborn.jpg
END:VEVENT
BEGIN:VEVENT
DTSTART;TZID=America/Chicago:20221012T090000
DTEND;TZID=America/Chicago:20221012T130000
DTSTAMP:20260425T053028
CREATED:20220801T173804Z
LAST-MODIFIED:20220808T154501Z
UID:29936-1665565200-1665579600@www.lakebarringtonshores.org
SUMMARY:Flu Shots
DESCRIPTION:Informed Consent for Immunization
URL:https://www.lakebarringtonshores.org/event/flu-shots-2/
CATEGORIES:Featured,Special Event
ATTACH;FMTTYPE=image/png:https://www.lakebarringtonshores.org/wp-content/uploads/2021/10/flu-shots-how-do-they-work-_780x350.png
END:VEVENT
BEGIN:VEVENT
DTSTART;TZID=America/Chicago:20221011T183000
DTEND;TZID=America/Chicago:20221011T210000
DTSTAMP:20260425T053028
CREATED:20220722T144645Z
LAST-MODIFIED:20220722T145001Z
UID:29879-1665513000-1665522000@www.lakebarringtonshores.org
SUMMARY:Trivia Night
DESCRIPTION:Trivia Night – October 2022
URL:https://www.lakebarringtonshores.org/event/trivia-night-7/
CATEGORIES:Featured,Special Event
ATTACH;FMTTYPE=image/png:https://www.lakebarringtonshores.org/wp-content/uploads/2017/05/trivia.png
END:VEVENT
BEGIN:VEVENT
DTSTART;TZID=America/Chicago:20221011T093000
DTEND;TZID=America/Chicago:20221011T110000
DTSTAMP:20260425T053028
CREATED:20220803T214437Z
LAST-MODIFIED:20220803T214438Z
UID:29960-1665480600-1665486000@www.lakebarringtonshores.org
SUMMARY:Livin' La Vida Lifestyle: Falling for LBS!
DESCRIPTION:
URL:https://www.lakebarringtonshores.org/event/livin-la-vida-lifestyle-falling-for-lbs/
CATEGORIES:Featured,Special Event
ATTACH;FMTTYPE=image/jpeg:https://www.lakebarringtonshores.org/wp-content/uploads/2022/08/autumn-fall-leaves-hot-steaming-cup-of-coffee-and-a-warm-scarf-on-wooden-table-background-season_u-L-Q1A61OU0.jpg
END:VEVENT
BEGIN:VEVENT
DTSTART;TZID=America/Chicago:20220929T173000
DTEND;TZID=America/Chicago:20220929T193000
DTSTAMP:20260425T053028
CREATED:20220803T174210Z
LAST-MODIFIED:20220803T174210Z
UID:29949-1664472600-1664479800@www.lakebarringtonshores.org
SUMMARY:Bonfire on the Beach
DESCRIPTION:
URL:https://www.lakebarringtonshores.org/event/bonfire-on-the-beach-5/
CATEGORIES:Featured,Special Event
ATTACH;FMTTYPE=image/jpeg:https://www.lakebarringtonshores.org/wp-content/uploads/2019/08/IMG_2325.jpg
END:VEVENT
BEGIN:VEVENT
DTSTART;TZID=America/Chicago:20220912T130000
DTEND;TZID=America/Chicago:20220912T143000
DTSTAMP:20260425T053028
CREATED:20220825T173715Z
LAST-MODIFIED:20220825T173715Z
UID:30077-1662987600-1662993000@www.lakebarringtonshores.org
SUMMARY:Cutting the Cord
DESCRIPTION:
URL:https://www.lakebarringtonshores.org/event/cutting-the-cord/
CATEGORIES:Featured,Special Event
ATTACH;FMTTYPE=image/jpeg:https://www.lakebarringtonshores.org/wp-content/uploads/2022/08/cutting-the-cord-e1512573368902.jpg
END:VEVENT
END:VCALENDAR