BEGIN:VCALENDAR
VERSION:2.0
PRODID:-//Lake Barrington Shores - ECPv6.15.17//NONSGML v1.0//EN
CALSCALE:GREGORIAN
METHOD:PUBLISH
X-WR-CALNAME:Lake Barrington Shores
X-ORIGINAL-URL:https://www.lakebarringtonshores.org
X-WR-CALDESC:Events for Lake Barrington Shores
REFRESH-INTERVAL;VALUE=DURATION:PT1H
X-Robots-Tag:noindex
X-PUBLISHED-TTL:PT1H
BEGIN:VTIMEZONE
TZID:America/Chicago
BEGIN:DAYLIGHT
TZOFFSETFROM:-0600
TZOFFSETTO:-0500
TZNAME:CDT
DTSTART:20210314T080000
END:DAYLIGHT
BEGIN:STANDARD
TZOFFSETFROM:-0500
TZOFFSETTO:-0600
TZNAME:CST
DTSTART:20211107T070000
END:STANDARD
BEGIN:DAYLIGHT
TZOFFSETFROM:-0600
TZOFFSETTO:-0500
TZNAME:CDT
DTSTART:20220313T080000
END:DAYLIGHT
BEGIN:STANDARD
TZOFFSETFROM:-0500
TZOFFSETTO:-0600
TZNAME:CST
DTSTART:20221106T070000
END:STANDARD
BEGIN:DAYLIGHT
TZOFFSETFROM:-0600
TZOFFSETTO:-0500
TZNAME:CDT
DTSTART:20230312T080000
END:DAYLIGHT
BEGIN:STANDARD
TZOFFSETFROM:-0500
TZOFFSETTO:-0600
TZNAME:CST
DTSTART:20231105T070000
END:STANDARD
END:VTIMEZONE
BEGIN:VEVENT
DTSTART;TZID=America/Chicago:20221025T090000
DTEND;TZID=America/Chicago:20221025T130000
DTSTAMP:20260425T175059
CREATED:20220812T163643Z
LAST-MODIFIED:20220812T163643Z
UID:30012-1666688400-1666702800@www.lakebarringtonshores.org
SUMMARY:AARP Driver Safety Class
DESCRIPTION:
URL:https://www.lakebarringtonshores.org/event/aarp-driver-safety-class-3/
CATEGORIES:Featured,Special Event
ATTACH;FMTTYPE=image/jpeg:https://www.lakebarringtonshores.org/wp-content/uploads/2017/07/thPRIRIYSI.jpg
END:VEVENT
BEGIN:VEVENT
DTSTART;TZID=America/Chicago:20221025T090000
DTEND;TZID=America/Chicago:20221025T130000
DTSTAMP:20260425T175059
CREATED:20220812T163643Z
LAST-MODIFIED:20220812T163643Z
UID:30012-1666688400-1666702800@www.lakebarringtonshores.org
SUMMARY:AARP Driver Safety Class
DESCRIPTION:
URL:https://www.lakebarringtonshores.org/event/aarp-driver-safety-class-3/
CATEGORIES:Featured,Special Event
ATTACH;FMTTYPE=image/jpeg:https://www.lakebarringtonshores.org/wp-content/uploads/2017/07/thPRIRIYSI.jpg
END:VEVENT
BEGIN:VEVENT
DTSTART;TZID=America/Chicago:20221023T171500
DTEND;TZID=America/Chicago:20221023T200000
DTSTAMP:20260425T175059
CREATED:20220811T173833Z
LAST-MODIFIED:20220811T173834Z
UID:30008-1666545300-1666555200@www.lakebarringtonshores.org
SUMMARY:Haunted Hike
DESCRIPTION:
URL:https://www.lakebarringtonshores.org/event/haunted-hike-2/
CATEGORIES:Featured,Special Event
ATTACH;FMTTYPE=image/jpeg:https://www.lakebarringtonshores.org/wp-content/uploads/2021/09/IMG_1011.jpg
END:VEVENT
BEGIN:VEVENT
DTSTART;TZID=America/Chicago:20221019T190000
DTEND;TZID=America/Chicago:20221019T203000
DTSTAMP:20260425T175059
CREATED:20221018T142933Z
LAST-MODIFIED:20221018T142934Z
UID:30342-1666206000-1666211400@www.lakebarringtonshores.org
SUMMARY:Military Speakers Bureau
DESCRIPTION:
URL:https://www.lakebarringtonshores.org/event/military-speakers-bureau/
CATEGORIES:Featured,Special Event
END:VEVENT
BEGIN:VEVENT
DTSTART;TZID=America/Chicago:20221013T093000
DTEND;TZID=America/Chicago:20221013T110000
DTSTAMP:20260425T175059
CREATED:20220803T233758Z
LAST-MODIFIED:20220803T233807Z
UID:29968-1665653400-1665658800@www.lakebarringtonshores.org
SUMMARY:Haunted History of the Midwest
DESCRIPTION:Haunted History of the Midwest: Thursday\, October 13th \nSit back and listen\, if you dare\, to the entertaining and chilling tales of the historical hauntings of the Midwest. Stories of the S.S. Eastland\, Brookfield Zoo\, Fort Dearborn Massacre\, and John Dillinger (to name just a few) help to guarantee spooky goosebumps while learning a bit of history at the same time! Presented by Terrence Lynch. \nEvery month begins with coffee\, breakfast pastries\, and conversation at 9:30am. Program follows at 10:00am in the Ballroom. You must pre-register at the LBS Management Office. Cost is $5 / person.
URL:https://www.lakebarringtonshores.org/event/haunted-history-of-the-midwest/
CATEGORIES:Featured,Special Event
ATTACH;FMTTYPE=image/jpeg:https://www.lakebarringtonshores.org/wp-content/uploads/2022/08/C1209_Fort_Dearborn.jpg
END:VEVENT
BEGIN:VEVENT
DTSTART;TZID=America/Chicago:20221012T090000
DTEND;TZID=America/Chicago:20221012T130000
DTSTAMP:20260425T175059
CREATED:20220801T173804Z
LAST-MODIFIED:20220808T154501Z
UID:29936-1665565200-1665579600@www.lakebarringtonshores.org
SUMMARY:Flu Shots
DESCRIPTION:Informed Consent for Immunization
URL:https://www.lakebarringtonshores.org/event/flu-shots-2/
CATEGORIES:Featured,Special Event
ATTACH;FMTTYPE=image/png:https://www.lakebarringtonshores.org/wp-content/uploads/2021/10/flu-shots-how-do-they-work-_780x350.png
END:VEVENT
BEGIN:VEVENT
DTSTART;TZID=America/Chicago:20221011T183000
DTEND;TZID=America/Chicago:20221011T210000
DTSTAMP:20260425T175059
CREATED:20220722T144645Z
LAST-MODIFIED:20220722T145001Z
UID:29879-1665513000-1665522000@www.lakebarringtonshores.org
SUMMARY:Trivia Night
DESCRIPTION:Trivia Night – October 2022
URL:https://www.lakebarringtonshores.org/event/trivia-night-7/
CATEGORIES:Featured,Special Event
ATTACH;FMTTYPE=image/png:https://www.lakebarringtonshores.org/wp-content/uploads/2017/05/trivia.png
END:VEVENT
BEGIN:VEVENT
DTSTART;TZID=America/Chicago:20221011T093000
DTEND;TZID=America/Chicago:20221011T110000
DTSTAMP:20260425T175059
CREATED:20220803T214437Z
LAST-MODIFIED:20220803T214438Z
UID:29960-1665480600-1665486000@www.lakebarringtonshores.org
SUMMARY:Livin' La Vida Lifestyle: Falling for LBS!
DESCRIPTION:
URL:https://www.lakebarringtonshores.org/event/livin-la-vida-lifestyle-falling-for-lbs/
CATEGORIES:Featured,Special Event
ATTACH;FMTTYPE=image/jpeg:https://www.lakebarringtonshores.org/wp-content/uploads/2022/08/autumn-fall-leaves-hot-steaming-cup-of-coffee-and-a-warm-scarf-on-wooden-table-background-season_u-L-Q1A61OU0.jpg
END:VEVENT
BEGIN:VEVENT
DTSTART;TZID=America/Chicago:20220929T173000
DTEND;TZID=America/Chicago:20220929T193000
DTSTAMP:20260425T175059
CREATED:20220803T174210Z
LAST-MODIFIED:20220803T174210Z
UID:29949-1664472600-1664479800@www.lakebarringtonshores.org
SUMMARY:Bonfire on the Beach
DESCRIPTION:
URL:https://www.lakebarringtonshores.org/event/bonfire-on-the-beach-5/
CATEGORIES:Featured,Special Event
ATTACH;FMTTYPE=image/jpeg:https://www.lakebarringtonshores.org/wp-content/uploads/2019/08/IMG_2325.jpg
END:VEVENT
BEGIN:VEVENT
DTSTART;TZID=America/Chicago:20220912T130000
DTEND;TZID=America/Chicago:20220912T143000
DTSTAMP:20260425T175059
CREATED:20220825T173715Z
LAST-MODIFIED:20220825T173715Z
UID:30077-1662987600-1662993000@www.lakebarringtonshores.org
SUMMARY:Cutting the Cord
DESCRIPTION:
URL:https://www.lakebarringtonshores.org/event/cutting-the-cord/
CATEGORIES:Featured,Special Event
ATTACH;FMTTYPE=image/jpeg:https://www.lakebarringtonshores.org/wp-content/uploads/2022/08/cutting-the-cord-e1512573368902.jpg
END:VEVENT
BEGIN:VEVENT
DTSTART;TZID=America/Chicago:20220910T083000
DTEND;TZID=America/Chicago:20220910T113000
DTSTAMP:20260425T175059
CREATED:20220803T220422Z
LAST-MODIFIED:20220803T220545Z
UID:29964-1662798600-1662809400@www.lakebarringtonshores.org
SUMMARY:Paper Shredding
DESCRIPTION:
URL:https://www.lakebarringtonshores.org/event/paper-shredding/
CATEGORIES:Featured,Special Event
ATTACH;FMTTYPE=image/png:https://www.lakebarringtonshores.org/wp-content/uploads/2022/08/889-h_main-w.png
END:VEVENT
BEGIN:VEVENT
DTSTART;TZID=America/Chicago:20220826T173000
DTEND;TZID=America/Chicago:20220826T200000
DTSTAMP:20260425T175059
CREATED:20220425T212633Z
LAST-MODIFIED:20220425T212657Z
UID:29473-1661535000-1661544000@www.lakebarringtonshores.org
SUMMARY:Fish Boil
DESCRIPTION:
URL:https://www.lakebarringtonshores.org/event/fish-boil-2/
CATEGORIES:Featured,Special Event
ATTACH;FMTTYPE=image/jpeg:https://www.lakebarringtonshores.org/wp-content/uploads/2022/04/i-XfnsRGj-L.jpg
END:VEVENT
BEGIN:VEVENT
DTSTART;TZID=America/Chicago:20220406T093000
DTEND;TZID=America/Chicago:20220406T110000
DTSTAMP:20260425T175059
CREATED:20220309T233752Z
LAST-MODIFIED:20220309T233753Z
UID:29198-1649237400-1649242800@www.lakebarringtonshores.org
SUMMARY:Living Your Best at LBS: Speaker Series
DESCRIPTION:
URL:https://www.lakebarringtonshores.org/event/living-your-best-at-lbs-speaker-series/
CATEGORIES:Featured,Special Event
ATTACH;FMTTYPE=image/png:https://www.lakebarringtonshores.org/wp-content/uploads/2022/03/speakerseries.png
END:VEVENT
BEGIN:VEVENT
DTSTART;TZID=America/Chicago:20220818T183000
DTEND;TZID=America/Chicago:20220818T200000
DTSTAMP:20260425T175059
CREATED:20220608T175117Z
LAST-MODIFIED:20220608T175117Z
UID:29670-1660847400-1660852800@www.lakebarringtonshores.org
SUMMARY:Livin' La Vida Lifestyle: Flamingle for a Cure
DESCRIPTION:
URL:https://www.lakebarringtonshores.org/event/livin-la-vida-lifestyle-flamingle-for-a-cure/
CATEGORIES:Featured,Special Event
ATTACH;FMTTYPE=image/jpeg:https://www.lakebarringtonshores.org/wp-content/uploads/2022/06/download.jpeg
END:VEVENT
BEGIN:VEVENT
DTSTART;TZID=America/Chicago:20220621T100000
DTEND;TZID=America/Chicago:20220621T120000
DTSTAMP:20260425T175059
CREATED:20220310T213055Z
LAST-MODIFIED:20220310T213055Z
UID:29212-1655805600-1655812800@www.lakebarringtonshores.org
SUMMARY:Adult Fishing Clinics
DESCRIPTION:
URL:https://www.lakebarringtonshores.org/event/adult-fishing-clinics/
CATEGORIES:Featured,Special Event
ATTACH;FMTTYPE=image/jpeg:https://www.lakebarringtonshores.org/wp-content/uploads/2022/03/10.jpg
END:VEVENT
BEGIN:VEVENT
DTSTART;TZID=America/Chicago:20220611T100000
DTEND;TZID=America/Chicago:20220611T110000
DTSTAMP:20260425T175059
CREATED:20220317T194439Z
LAST-MODIFIED:20220317T194544Z
UID:29260-1654941600-1654945200@www.lakebarringtonshores.org
SUMMARY:Walk with Me: Miniature Horses from Soul Harbour Ranch
DESCRIPTION:
URL:https://www.lakebarringtonshores.org/event/walk-with-me-miniature-horses-from-soul-harbour-ranch/
CATEGORIES:Featured,Special Event
ATTACH;FMTTYPE=image/jpeg:https://www.lakebarringtonshores.org/wp-content/uploads/2021/04/62528292_2532693033410483_8409114901175336960_n.jpg
END:VEVENT
BEGIN:VEVENT
DTSTART;TZID=America/Chicago:20220617T183000
DTEND;TZID=America/Chicago:20220617T204500
DTSTAMP:20260425T175059
CREATED:20220324T163749Z
LAST-MODIFIED:20220324T163749Z
UID:29316-1655490600-1655498700@www.lakebarringtonshores.org
SUMMARY:Summer Concert Series at LBS!
DESCRIPTION:
URL:https://www.lakebarringtonshores.org/event/summer-concert-series-at-lbs/
CATEGORIES:Featured,Special Event
ATTACH;FMTTYPE=image/jpeg:https://www.lakebarringtonshores.org/wp-content/uploads/2019/06/concerts-in-the-park-torrance.jpg
END:VEVENT
BEGIN:VEVENT
DTSTART;TZID=America/Chicago:20220614T100000
DTEND;TZID=America/Chicago:20220614T120000
DTSTAMP:20260425T175059
CREATED:20220310T212753Z
LAST-MODIFIED:20220310T212753Z
UID:29207-1655200800-1655208000@www.lakebarringtonshores.org
SUMMARY:Kid's Fishing Clinics
DESCRIPTION:
URL:https://www.lakebarringtonshores.org/event/kids-fishing-clinics/
CATEGORIES:Featured,Special Event
END:VEVENT
BEGIN:VEVENT
DTSTART;TZID=America/Chicago:20220621T100000
DTEND;TZID=America/Chicago:20220621T120000
DTSTAMP:20260425T175059
CREATED:20220310T213055Z
LAST-MODIFIED:20220310T213055Z
UID:29212-1655805600-1655812800@www.lakebarringtonshores.org
SUMMARY:Adult Fishing Clinics
DESCRIPTION:
URL:https://www.lakebarringtonshores.org/event/adult-fishing-clinics/
CATEGORIES:Featured,Special Event
ATTACH;FMTTYPE=image/jpeg:https://www.lakebarringtonshores.org/wp-content/uploads/2022/03/10.jpg
END:VEVENT
BEGIN:VEVENT
DTSTART;TZID=America/Chicago:20220406T093000
DTEND;TZID=America/Chicago:20220406T110000
DTSTAMP:20260425T175059
CREATED:20220309T233752Z
LAST-MODIFIED:20220309T233753Z
UID:29198-1649237400-1649242800@www.lakebarringtonshores.org
SUMMARY:Living Your Best at LBS: Speaker Series
DESCRIPTION:
URL:https://www.lakebarringtonshores.org/event/living-your-best-at-lbs-speaker-series/
CATEGORIES:Featured,Special Event
ATTACH;FMTTYPE=image/png:https://www.lakebarringtonshores.org/wp-content/uploads/2022/03/speakerseries.png
END:VEVENT
BEGIN:VEVENT
DTSTART;TZID=America/Chicago:20220617T183000
DTEND;TZID=America/Chicago:20220617T204500
DTSTAMP:20260425T175059
CREATED:20220324T163749Z
LAST-MODIFIED:20220324T163749Z
UID:29316-1655490600-1655498700@www.lakebarringtonshores.org
SUMMARY:Summer Concert Series at LBS!
DESCRIPTION:
URL:https://www.lakebarringtonshores.org/event/summer-concert-series-at-lbs/
CATEGORIES:Featured,Special Event
ATTACH;FMTTYPE=image/jpeg:https://www.lakebarringtonshores.org/wp-content/uploads/2019/06/concerts-in-the-park-torrance.jpg
END:VEVENT
BEGIN:VEVENT
DTSTART;TZID=America/Chicago:20220614T100000
DTEND;TZID=America/Chicago:20220614T120000
DTSTAMP:20260425T175059
CREATED:20220310T212753Z
LAST-MODIFIED:20220310T212753Z
UID:29207-1655200800-1655208000@www.lakebarringtonshores.org
SUMMARY:Kid's Fishing Clinics
DESCRIPTION:
URL:https://www.lakebarringtonshores.org/event/kids-fishing-clinics/
CATEGORIES:Featured,Special Event
END:VEVENT
BEGIN:VEVENT
DTSTART;TZID=America/Chicago:20220611T100000
DTEND;TZID=America/Chicago:20220611T110000
DTSTAMP:20260425T175059
CREATED:20220317T194439Z
LAST-MODIFIED:20220317T194544Z
UID:29260-1654941600-1654945200@www.lakebarringtonshores.org
SUMMARY:Walk with Me: Miniature Horses from Soul Harbour Ranch
DESCRIPTION:
URL:https://www.lakebarringtonshores.org/event/walk-with-me-miniature-horses-from-soul-harbour-ranch/
CATEGORIES:Featured,Special Event
ATTACH;FMTTYPE=image/jpeg:https://www.lakebarringtonshores.org/wp-content/uploads/2021/04/62528292_2532693033410483_8409114901175336960_n.jpg
END:VEVENT
BEGIN:VEVENT
DTSTART;TZID=America/Chicago:20220707T080000
DTEND;TZID=America/Chicago:20220707T130000
DTSTAMP:20260425T175059
CREATED:20220707T161414Z
LAST-MODIFIED:20220707T161414Z
UID:29816-1657180800-1657198800@www.lakebarringtonshores.org
SUMMARY:Blood Drive
DESCRIPTION:
URL:https://www.lakebarringtonshores.org/event/blood-drive-4/
CATEGORIES:Featured,Special Event
ATTACH;FMTTYPE=image/jpeg:https://www.lakebarringtonshores.org/wp-content/uploads/2021/08/96752846_3159656847388374_8272971327019679744_o.jpg
END:VEVENT
BEGIN:VEVENT
DTSTART;TZID=America/Chicago:20220626T130000
DTEND;TZID=America/Chicago:20220626T160000
DTSTAMP:20260425T175059
CREATED:20220524T165436Z
LAST-MODIFIED:20220524T165436Z
UID:29600-1656248400-1656259200@www.lakebarringtonshores.org
SUMMARY:Garden Walk
DESCRIPTION:
URL:https://www.lakebarringtonshores.org/event/garden-walk/
CATEGORIES:Featured,Special Event
ATTACH;FMTTYPE=image/jpeg:https://www.lakebarringtonshores.org/wp-content/uploads/2022/05/garden-walk-logo___21100832193-300x295-1.jpg
END:VEVENT
BEGIN:VEVENT
DTSTART;TZID=America/Chicago:20220623T183000
DTEND;TZID=America/Chicago:20220623T210000
DTSTAMP:20260425T175059
CREATED:20220324T151542Z
LAST-MODIFIED:20220324T163832Z
UID:29312-1656009000-1656018000@www.lakebarringtonshores.org
SUMMARY:Trivia Night
DESCRIPTION:
URL:https://www.lakebarringtonshores.org/event/trivia-night-6/
CATEGORIES:Featured,Special Event
ATTACH;FMTTYPE=image/jpeg:https://www.lakebarringtonshores.org/wp-content/uploads/2019/12/shutterstock_1281339124.0.jpg
END:VEVENT
BEGIN:VEVENT
DTSTART;TZID=America/Chicago:20220621T163000
DTEND;TZID=America/Chicago:20220621T180000
DTSTAMP:20260425T175059
CREATED:20220310T214101Z
LAST-MODIFIED:20220310T214101Z
UID:29227-1655829000-1655834400@www.lakebarringtonshores.org
SUMMARY:Livin' La Vida Lifestyle: First Day of Summer Fiesta!
DESCRIPTION:
URL:https://www.lakebarringtonshores.org/event/livin-la-vida-lifestyle-first-day-of-summer-fiesta/
CATEGORIES:Featured,Special Event
ATTACH;FMTTYPE=image/jpeg:https://www.lakebarringtonshores.org/wp-content/uploads/2022/03/web_grid_3x_3c6dc7b2-c616-4732-b6c8-d4e23f7634c6.jpeg
END:VEVENT
BEGIN:VEVENT
DTSTART;TZID=America/Chicago:20220621T100000
DTEND;TZID=America/Chicago:20220621T120000
DTSTAMP:20260425T175059
CREATED:20220310T213055Z
LAST-MODIFIED:20220310T213055Z
UID:29212-1655805600-1655812800@www.lakebarringtonshores.org
SUMMARY:Adult Fishing Clinics
DESCRIPTION:
URL:https://www.lakebarringtonshores.org/event/adult-fishing-clinics/
CATEGORIES:Featured,Special Event
ATTACH;FMTTYPE=image/jpeg:https://www.lakebarringtonshores.org/wp-content/uploads/2022/03/10.jpg
END:VEVENT
BEGIN:VEVENT
DTSTART;TZID=America/Chicago:20220617T183000
DTEND;TZID=America/Chicago:20220617T204500
DTSTAMP:20260425T175059
CREATED:20220324T163749Z
LAST-MODIFIED:20220324T163749Z
UID:29316-1655490600-1655498700@www.lakebarringtonshores.org
SUMMARY:Summer Concert Series at LBS!
DESCRIPTION:
URL:https://www.lakebarringtonshores.org/event/summer-concert-series-at-lbs/
CATEGORIES:Featured,Special Event
ATTACH;FMTTYPE=image/jpeg:https://www.lakebarringtonshores.org/wp-content/uploads/2019/06/concerts-in-the-park-torrance.jpg
END:VEVENT
BEGIN:VEVENT
DTSTART;TZID=America/Chicago:20220614T100000
DTEND;TZID=America/Chicago:20220614T120000
DTSTAMP:20260425T175059
CREATED:20220310T212753Z
LAST-MODIFIED:20220310T212753Z
UID:29207-1655200800-1655208000@www.lakebarringtonshores.org
SUMMARY:Kid's Fishing Clinics
DESCRIPTION:
URL:https://www.lakebarringtonshores.org/event/kids-fishing-clinics/
CATEGORIES:Featured,Special Event
END:VEVENT
END:VCALENDAR