BEGIN:VCALENDAR
VERSION:2.0
PRODID:-//Lake Barrington Shores - ECPv6.15.17//NONSGML v1.0//EN
CALSCALE:GREGORIAN
METHOD:PUBLISH
X-ORIGINAL-URL:https://www.lakebarringtonshores.org
X-WR-CALDESC:Events for Lake Barrington Shores
REFRESH-INTERVAL;VALUE=DURATION:PT1H
X-Robots-Tag:noindex
X-PUBLISHED-TTL:PT1H
BEGIN:VTIMEZONE
TZID:America/Chicago
BEGIN:DAYLIGHT
TZOFFSETFROM:-0600
TZOFFSETTO:-0500
TZNAME:CDT
DTSTART:20230312T080000
END:DAYLIGHT
BEGIN:STANDARD
TZOFFSETFROM:-0500
TZOFFSETTO:-0600
TZNAME:CST
DTSTART:20231105T070000
END:STANDARD
BEGIN:DAYLIGHT
TZOFFSETFROM:-0600
TZOFFSETTO:-0500
TZNAME:CDT
DTSTART:20240310T080000
END:DAYLIGHT
BEGIN:STANDARD
TZOFFSETFROM:-0500
TZOFFSETTO:-0600
TZNAME:CST
DTSTART:20241103T070000
END:STANDARD
BEGIN:DAYLIGHT
TZOFFSETFROM:-0600
TZOFFSETTO:-0500
TZNAME:CDT
DTSTART:20250309T080000
END:DAYLIGHT
BEGIN:STANDARD
TZOFFSETFROM:-0500
TZOFFSETTO:-0600
TZNAME:CST
DTSTART:20251102T070000
END:STANDARD
BEGIN:DAYLIGHT
TZOFFSETFROM:-0600
TZOFFSETTO:-0500
TZNAME:CDT
DTSTART:20260308T080000
END:DAYLIGHT
BEGIN:STANDARD
TZOFFSETFROM:-0500
TZOFFSETTO:-0600
TZNAME:CST
DTSTART:20261101T070000
END:STANDARD
END:VTIMEZONE
BEGIN:VEVENT
DTSTART;TZID=America/Chicago:20250617T090000
DTEND;TZID=America/Chicago:20250617T130000
DTSTAMP:20260424T092403
CREATED:20250219T214435Z
LAST-MODIFIED:20250219T214435Z
UID:32987-1750150800-1750165200@www.lakebarringtonshores.org
SUMMARY:AARP Driver Safety Course
DESCRIPTION:
URL:https://www.lakebarringtonshores.org/event/aarp-driver-safety-course-7/
CATEGORIES:Featured,Special Event
ATTACH;FMTTYPE=image/png:https://www.lakebarringtonshores.org/wp-content/uploads/2017/01/aarpDS_web.png
END:VEVENT
BEGIN:VEVENT
DTSTART;TZID=America/Chicago:20250617T100000
DTEND;TZID=America/Chicago:20250617T120000
DTSTAMP:20260424T092403
CREATED:20250220T185325Z
LAST-MODIFIED:20250220T185416Z
UID:33001-1750154400-1750161600@www.lakebarringtonshores.org
SUMMARY:Adult Fishing Clinic
DESCRIPTION:
URL:https://www.lakebarringtonshores.org/event/adult-fishing-clinic-4/
CATEGORIES:Featured,Special Event
ATTACH;FMTTYPE=image/jpeg:https://www.lakebarringtonshores.org/wp-content/uploads/2025/02/7.jpg
END:VEVENT
BEGIN:VEVENT
DTSTART;TZID=America/Chicago:20250617T090000
DTEND;TZID=America/Chicago:20250617T130000
DTSTAMP:20260424T092403
CREATED:20250219T214435Z
LAST-MODIFIED:20250219T214435Z
UID:32987-1750150800-1750165200@www.lakebarringtonshores.org
SUMMARY:AARP Driver Safety Course
DESCRIPTION:
URL:https://www.lakebarringtonshores.org/event/aarp-driver-safety-course-7/
CATEGORIES:Featured,Special Event
ATTACH;FMTTYPE=image/png:https://www.lakebarringtonshores.org/wp-content/uploads/2017/01/aarpDS_web.png
END:VEVENT
BEGIN:VEVENT
DTSTART;TZID=America/Chicago:20250610T100000
DTEND;TZID=America/Chicago:20250610T120000
DTSTAMP:20260424T092403
CREATED:20250220T183805Z
LAST-MODIFIED:20250220T183805Z
UID:32996-1749549600-1749556800@www.lakebarringtonshores.org
SUMMARY:Kid's Fishing Clinics
DESCRIPTION:
URL:https://www.lakebarringtonshores.org/event/kids-fishing-clinics-3/
CATEGORIES:Featured,Special Event
ATTACH;FMTTYPE=image/jpeg:https://www.lakebarringtonshores.org/wp-content/uploads/2025/02/21.jpg
END:VEVENT
BEGIN:VEVENT
DTSTART;TZID=America/Chicago:20250607T100000
DTEND;TZID=America/Chicago:20250607T110000
DTSTAMP:20260424T092403
CREATED:20250203T192342Z
LAST-MODIFIED:20250203T192343Z
UID:32957-1749290400-1749294000@www.lakebarringtonshores.org
SUMMARY:Pet Partners "Walk with Me" with Soul Harbour Ranch Therapy
DESCRIPTION:
URL:https://www.lakebarringtonshores.org/event/pet-partners-walk-with-me-with-soul-harbour-ranch-therapy/
CATEGORIES:Featured,Special Event
ATTACH;FMTTYPE=image/jpeg:https://www.lakebarringtonshores.org/wp-content/uploads/2025/02/06-08-24_IMG_3065.01.jpg
END:VEVENT
BEGIN:VEVENT
DTSTART;TZID=America/Chicago:20250505T170000
DTEND;TZID=America/Chicago:20250505T190000
DTSTAMP:20260424T092403
CREATED:20250219T221320Z
LAST-MODIFIED:20250219T221358Z
UID:32991-1746464400-1746471600@www.lakebarringtonshores.org
SUMMARY:Cinco de Mayo Fiesta
DESCRIPTION:
URL:https://www.lakebarringtonshores.org/event/cinco-de-mayo-fiesta/
CATEGORIES:Featured,Special Event
ATTACH;FMTTYPE=image/jpeg:https://www.lakebarringtonshores.org/wp-content/uploads/2025/02/Cinco-de-Mayo-1.jpg
END:VEVENT
BEGIN:VEVENT
DTSTART;TZID=America/Chicago:20250503T100000
DTEND;TZID=America/Chicago:20250503T120000
DTSTAMP:20260424T092403
CREATED:20250219T214011Z
LAST-MODIFIED:20250219T214011Z
UID:32984-1746266400-1746273600@www.lakebarringtonshores.org
SUMMARY:LBS Club Fair
DESCRIPTION:
URL:https://www.lakebarringtonshores.org/event/lbs-club-fair-2/
CATEGORIES:Featured,Special Event
ATTACH;FMTTYPE=image/jpeg:https://www.lakebarringtonshores.org/wp-content/uploads/2025/02/CLUB-FAIR-2.jpg
END:VEVENT
BEGIN:VEVENT
DTSTART;TZID=America/Chicago:20250419T093000
DTEND;TZID=America/Chicago:20250419T110000
DTSTAMP:20260424T092403
CREATED:20250203T174005Z
LAST-MODIFIED:20250203T175550Z
UID:32949-1745055000-1745060400@www.lakebarringtonshores.org
SUMMARY:Breakfast with the Easter Bunny
DESCRIPTION:
URL:https://www.lakebarringtonshores.org/event/breakfast-with-the-easter-bunny-5/
CATEGORIES:Featured,Special Event
ATTACH;FMTTYPE=image/jpeg:https://www.lakebarringtonshores.org/wp-content/uploads/2025/02/28058603_1838578432843635_4918921334528472261_n_0.jpg
END:VEVENT
BEGIN:VEVENT
DTSTART;TZID=America/Chicago:20250416T080000
DTEND;TZID=America/Chicago:20250416T120000
DTSTAMP:20260424T092403
CREATED:20250311T172855Z
LAST-MODIFIED:20250311T172855Z
UID:33013-1744790400-1744804800@www.lakebarringtonshores.org
SUMMARY:Blood Drive
DESCRIPTION:
URL:https://www.lakebarringtonshores.org/event/blood-drive-8/
CATEGORIES:Featured,Special Event
ATTACH;FMTTYPE=image/jpeg:https://www.lakebarringtonshores.org/wp-content/uploads/2025/03/Capture.jpg
END:VEVENT
BEGIN:VEVENT
DTSTART;TZID=America/Chicago:20250415T093000
DTEND;TZID=America/Chicago:20250415T110000
DTSTAMP:20260424T092403
CREATED:20250203T190810Z
LAST-MODIFIED:20250203T190811Z
UID:32953-1744709400-1744714800@www.lakebarringtonshores.org
SUMMARY:Living Your Best at LBS: Louisa May Alcott
DESCRIPTION:
URL:https://www.lakebarringtonshores.org/event/living-your-best-at-lbs-louisa-may-alcott/
CATEGORIES:Featured,Special Event
ATTACH;FMTTYPE=image/jpeg:https://www.lakebarringtonshores.org/wp-content/uploads/2025/02/8eyesalcott2.jpg
END:VEVENT
BEGIN:VEVENT
DTSTART;TZID=America/Chicago:20250412T083000
DTEND;TZID=America/Chicago:20250412T113000
DTSTAMP:20260424T092403
CREATED:20250123T191043Z
LAST-MODIFIED:20250123T191043Z
UID:32926-1744446600-1744457400@www.lakebarringtonshores.org
SUMMARY:Electronic Recycling & Paper Shredding
DESCRIPTION:
URL:https://www.lakebarringtonshores.org/event/electronic-recycling-paper-shredding/
CATEGORIES:Featured,Special Event
ATTACH;FMTTYPE=image/jpeg:https://www.lakebarringtonshores.org/wp-content/uploads/2023/07/shred_paper_frog_655px.jpg
END:VEVENT
BEGIN:VEVENT
DTSTART;TZID=America/Chicago:20250306T180000
DTEND;TZID=America/Chicago:20250306T203000
DTSTAMP:20260424T092403
CREATED:20250110T200754Z
LAST-MODIFIED:20250110T200754Z
UID:32907-1741284000-1741293000@www.lakebarringtonshores.org
SUMMARY:Trivia Night
DESCRIPTION:
URL:https://www.lakebarringtonshores.org/event/trivia-night-13/
CATEGORIES:Featured,Special Event
ATTACH;FMTTYPE=image/png:https://www.lakebarringtonshores.org/wp-content/uploads/2025/01/Trivia-Night-e1602084427535.png
END:VEVENT
BEGIN:VEVENT
DTSTART;TZID=America/Chicago:20250207T180000
DTEND;TZID=America/Chicago:20250207T210000
DTSTAMP:20260424T092403
CREATED:20250110T221158Z
LAST-MODIFIED:20250110T221159Z
UID:32913-1738951200-1738962000@www.lakebarringtonshores.org
SUMMARY:Dueling Piano Dinner Show
DESCRIPTION:
URL:https://www.lakebarringtonshores.org/event/dueling-piano-dinner-show-2/
CATEGORIES:Featured,Special Event
ATTACH;FMTTYPE=image/jpeg:https://www.lakebarringtonshores.org/wp-content/uploads/2025/01/HD-wallpaper-piano-heart-pretty-3d-graphy-music-love-heart-abstract-piano.jpg
END:VEVENT
BEGIN:VEVENT
DTSTART;TZID=America/Chicago:20241208T083000
DTEND;TZID=America/Chicago:20241208T123000
DTSTAMP:20260424T092403
CREATED:20241001T193851Z
LAST-MODIFIED:20241001T193851Z
UID:32731-1733646600-1733661000@www.lakebarringtonshores.org
SUMMARY:Breakfast with Santa
DESCRIPTION:
URL:https://www.lakebarringtonshores.org/event/breakfast-with-santa-7/
CATEGORIES:Featured,Special Event
ATTACH;FMTTYPE=image/jpeg:https://www.lakebarringtonshores.org/wp-content/uploads/2024/10/Breakfast-With-Santa-Flyer-4.jpg
END:VEVENT
BEGIN:VEVENT
DTSTART;TZID=America/Chicago:20241108T170000
DTEND;TZID=America/Chicago:20241108T200000
DTSTAMP:20260424T092403
CREATED:20240827T175341Z
LAST-MODIFIED:20240827T175341Z
UID:32664-1731085200-1731096000@www.lakebarringtonshores.org
SUMMARY:Holiday Arts and Gift Show
DESCRIPTION:
URL:https://www.lakebarringtonshores.org/event/holiday-arts-and-gift-show-8/
CATEGORIES:Featured,Special Event
ATTACH;FMTTYPE=image/jpeg:https://www.lakebarringtonshores.org/wp-content/uploads/2024/08/Holiday-Arts-Gift-Show.jpg
END:VEVENT
BEGIN:VEVENT
DTSTART;TZID=America/Chicago:20241108T170000
DTEND;TZID=America/Chicago:20241108T200000
DTSTAMP:20260424T092403
CREATED:20240827T175341Z
LAST-MODIFIED:20240827T175341Z
UID:32664-1731085200-1731096000@www.lakebarringtonshores.org
SUMMARY:Holiday Arts and Gift Show
DESCRIPTION:
URL:https://www.lakebarringtonshores.org/event/holiday-arts-and-gift-show-8/
CATEGORIES:Featured,Special Event
ATTACH;FMTTYPE=image/jpeg:https://www.lakebarringtonshores.org/wp-content/uploads/2024/08/Holiday-Arts-Gift-Show.jpg
END:VEVENT
BEGIN:VEVENT
DTSTART;TZID=America/Chicago:20241025T170000
DTEND;TZID=America/Chicago:20241025T193000
DTSTAMP:20260424T092403
CREATED:20240910T164221Z
LAST-MODIFIED:20240910T172240Z
UID:32685-1729875600-1729884600@www.lakebarringtonshores.org
SUMMARY:Haunted Hike
DESCRIPTION:
URL:https://www.lakebarringtonshores.org/event/haunted-hike-3/
CATEGORIES:Featured,Special Event
ATTACH;FMTTYPE=image/jpeg:https://www.lakebarringtonshores.org/wp-content/uploads/2024/09/Haunted-Hike-5.jpg
END:VEVENT
BEGIN:VEVENT
DTSTART;TZID=America/Chicago:20241003T130000
DTEND;TZID=America/Chicago:20241003T170000
DTSTAMP:20260424T092403
CREATED:20240905T163234Z
LAST-MODIFIED:20240905T163234Z
UID:32680-1727960400-1727974800@www.lakebarringtonshores.org
SUMMARY:Vision & Hearing Screenings
DESCRIPTION:
URL:https://www.lakebarringtonshores.org/event/vision-hearing-screenings/
CATEGORIES:Featured,Special Event
ATTACH;FMTTYPE=image/jpeg:https://www.lakebarringtonshores.org/wp-content/uploads/2024/09/Hearing-Retinal-Screenings.jpg
END:VEVENT
BEGIN:VEVENT
DTSTART;TZID=America/Chicago:20241001T090000
DTEND;TZID=America/Chicago:20241001T140000
DTSTAMP:20260424T092403
CREATED:20240827T165314Z
LAST-MODIFIED:20240827T175117Z
UID:32658-1727773200-1727791200@www.lakebarringtonshores.org
SUMMARY:Flu Shots
DESCRIPTION:Informed Consent for Immunization Universal 2024
URL:https://www.lakebarringtonshores.org/event/flu-shots-4/
CATEGORIES:Featured,Special Event
ATTACH;FMTTYPE=image/png:https://www.lakebarringtonshores.org/wp-content/uploads/2021/10/flu-shots-how-do-they-work-_780x350.png
END:VEVENT
BEGIN:VEVENT
DTSTART;TZID=America/Chicago:20240924T173000
DTEND;TZID=America/Chicago:20240924T193000
DTSTAMP:20260424T092403
CREATED:20240827T161236Z
LAST-MODIFIED:20240827T163210Z
UID:32655-1727199000-1727206200@www.lakebarringtonshores.org
SUMMARY:Bonfire on the Beach
DESCRIPTION:
URL:https://www.lakebarringtonshores.org/event/bonfire-on-the-beach-7/
CATEGORIES:Featured,Special Event
ATTACH;FMTTYPE=image/jpeg:https://www.lakebarringtonshores.org/wp-content/uploads/2024/08/Bonfire-on-the-Beach-3.jpg
END:VEVENT
BEGIN:VEVENT
DTSTART;TZID=America/Chicago:20240924T093000
DTEND;TZID=America/Chicago:20240924T110000
DTSTAMP:20260424T092403
CREATED:20240827T153437Z
LAST-MODIFIED:20240827T153437Z
UID:32650-1727170200-1727175600@www.lakebarringtonshores.org
SUMMARY:Flying High: Betty the Pan Am Stewardess
DESCRIPTION:
URL:https://www.lakebarringtonshores.org/event/flying-high-betty-the-pan-am-stewardess/
CATEGORIES:Featured,Special Event
END:VEVENT
BEGIN:VEVENT
DTSTART;TZID=America/Chicago:20240917T080000
DTEND;TZID=America/Chicago:20240917T170000
DTSTAMP:20260424T092403
CREATED:20240917T150122Z
LAST-MODIFIED:20240917T150122Z
UID:32693-1726560000-1726592400@www.lakebarringtonshores.org
SUMMARY:Blood Drive
DESCRIPTION:Register Here: https://tinyurl.com/Blood-Drive-10-17-24
URL:https://www.lakebarringtonshores.org/event/blood-drive-7/
CATEGORIES:Featured,Special Event
ATTACH;FMTTYPE=image/jpeg:https://www.lakebarringtonshores.org/wp-content/uploads/2024/09/Blood-Drive-October-2024-scaled.jpg
END:VEVENT
BEGIN:VEVENT
DTSTART;TZID=America/Chicago:20240914T083000
DTEND;TZID=America/Chicago:20240914T113000
DTSTAMP:20260424T092403
CREATED:20240827T145757Z
LAST-MODIFIED:20240827T153020Z
UID:32646-1726302600-1726313400@www.lakebarringtonshores.org
SUMMARY:Paper Shredding & Electronic Recycling
DESCRIPTION:
URL:https://www.lakebarringtonshores.org/event/paper-shredding-electronic-recycling/
CATEGORIES:Featured,Special Event
ATTACH;FMTTYPE=image/png:https://www.lakebarringtonshores.org/wp-content/uploads/2024/08/Articles_Shred_Day_09-25-2023.png
END:VEVENT
BEGIN:VEVENT
DTSTART;TZID=America/Chicago:20240912T173000
DTEND;TZID=America/Chicago:20240912T193000
DTSTAMP:20260424T092403
CREATED:20240827T144254Z
LAST-MODIFIED:20240829T142938Z
UID:32642-1726162200-1726169400@www.lakebarringtonshores.org
SUMMARY:New Neighbor Mixer
DESCRIPTION:
URL:https://www.lakebarringtonshores.org/event/new-neighbor-mixer-2/
CATEGORIES:Featured,Special Event
ATTACH;FMTTYPE=image/png:https://www.lakebarringtonshores.org/wp-content/uploads/2024/08/welcometotheneighborhood.png
END:VEVENT
BEGIN:VEVENT
DTSTART;TZID=America/Chicago:20240905T173000
DTEND;TZID=America/Chicago:20240905T190000
DTSTAMP:20260424T092403
CREATED:20240827T000942Z
LAST-MODIFIED:20240827T000942Z
UID:32639-1725557400-1725562800@www.lakebarringtonshores.org
SUMMARY:Touchdown Tailgate Happy Hour
DESCRIPTION:
URL:https://www.lakebarringtonshores.org/event/touchdown-tailgate-happy-hour/
CATEGORIES:Featured,Special Event
END:VEVENT
BEGIN:VEVENT
DTSTART;TZID=America/Chicago:20240816T173000
DTEND;TZID=America/Chicago:20240816T200000
DTSTAMP:20260424T092403
CREATED:20240409T145358Z
LAST-MODIFIED:20240409T145359Z
UID:32483-1723829400-1723838400@www.lakebarringtonshores.org
SUMMARY:Fish Boil
DESCRIPTION:
URL:https://www.lakebarringtonshores.org/event/fish-boil-4/
CATEGORIES:Featured,Special Event
ATTACH;FMTTYPE=image/jpeg:https://www.lakebarringtonshores.org/wp-content/uploads/2022/04/i-XfnsRGj-L.jpg
END:VEVENT
BEGIN:VEVENT
DTSTART;TZID=America/Chicago:20240618T100000
DTEND;TZID=America/Chicago:20240618T120000
DTSTAMP:20260424T092403
CREATED:20240404T182926Z
LAST-MODIFIED:20240404T182926Z
UID:32437-1718704800-1718712000@www.lakebarringtonshores.org
SUMMARY:Adult Fishing Clinic
DESCRIPTION:
URL:https://www.lakebarringtonshores.org/event/adult-fishing-clinic-3/
CATEGORIES:Featured,Special Event
END:VEVENT
BEGIN:VEVENT
DTSTART;TZID=America/Chicago:20240608T100000
DTEND;TZID=America/Chicago:20240608T110000
DTSTAMP:20260424T092403
CREATED:20240404T192706Z
LAST-MODIFIED:20240404T192706Z
UID:32453-1717840800-1717844400@www.lakebarringtonshores.org
SUMMARY:Pet Partners "Walk with Me" with SOUL Harbour Ranch
DESCRIPTION:Lake Barrington Shores is proud to partner with SOUL Harbour Ranch and the Pet Partners “Walk with Me” program! \nYou already know walking is good for you. But did you know that people who walk with an animal are more likely to meet physical activity recommendations? LBS residents and their guests are encouraged to come walk (with or without your pet) and we’ll be joined by our friends at Soul Harbor Ranch and their mini therapy horses and therapy dogs. The little guys will accompany us on our walk to get their daily exercise! \n2024 WALK WITH ME DATES \nSaturdays: June 8\, July 13\, August 10 at 10:00am \nMeet at Marina Rooftop. 30 minute walk followed by 30 minute social. Weather Permitting. No sign-up required. \n**The SOUL Harbour Ranch Animal Therapy Program (501(c)3) offers Animal-Assisted Interventions (fun activity\, therapy and educational visits and programs) within the Barrington and surrounding communities with their registered mini therapy horses\, mini therapy donkeys and therapy dogs. They visit nursing homes\, homes for the disabled\, community outings and even hospitals!
URL:https://www.lakebarringtonshores.org/event/pet-partners-walk-with-me-with-soul-harbour-ranch/
CATEGORIES:Featured,Special Event
ATTACH;FMTTYPE=image/jpeg:https://www.lakebarringtonshores.org/wp-content/uploads/2024/04/WWM_LogoHorizontal-1024x258-1.jpg
END:VEVENT
BEGIN:VEVENT
DTSTART;TZID=America/Chicago:20240722T183000
DTEND;TZID=America/Chicago:20240722T210000
DTSTAMP:20260424T092403
CREATED:20240409T145237Z
LAST-MODIFIED:20240409T145237Z
UID:32480-1721673000-1721682000@www.lakebarringtonshores.org
SUMMARY:Trivia Night
DESCRIPTION:
URL:https://www.lakebarringtonshores.org/event/trivia-night-12/
CATEGORIES:Featured,Special Event
ATTACH;FMTTYPE=image/png:https://www.lakebarringtonshores.org/wp-content/uploads/2023/05/Trivia-Night.png
END:VEVENT
BEGIN:VEVENT
DTSTART;TZID=America/Chicago:20240718T173000
DTEND;TZID=America/Chicago:20240718T193000
DTSTAMP:20260424T092403
CREATED:20240409T145633Z
LAST-MODIFIED:20240409T145633Z
UID:32486-1721323800-1721331000@www.lakebarringtonshores.org
SUMMARY:Peace\, Love\, & LBS!
DESCRIPTION:
URL:https://www.lakebarringtonshores.org/event/peace-love-lbs/
CATEGORIES:Featured,Special Event
END:VEVENT
END:VCALENDAR