BEGIN:VCALENDAR
VERSION:2.0
PRODID:-//Lake Barrington Shores - ECPv6.15.17//NONSGML v1.0//EN
CALSCALE:GREGORIAN
METHOD:PUBLISH
X-ORIGINAL-URL:https://www.lakebarringtonshores.org
X-WR-CALDESC:Events for Lake Barrington Shores
REFRESH-INTERVAL;VALUE=DURATION:PT1H
X-Robots-Tag:noindex
X-PUBLISHED-TTL:PT1H
BEGIN:VTIMEZONE
TZID:America/Chicago
BEGIN:DAYLIGHT
TZOFFSETFROM:-0600
TZOFFSETTO:-0500
TZNAME:CDT
DTSTART:20240310T080000
END:DAYLIGHT
BEGIN:STANDARD
TZOFFSETFROM:-0500
TZOFFSETTO:-0600
TZNAME:CST
DTSTART:20241103T070000
END:STANDARD
BEGIN:DAYLIGHT
TZOFFSETFROM:-0600
TZOFFSETTO:-0500
TZNAME:CDT
DTSTART:20250309T080000
END:DAYLIGHT
BEGIN:STANDARD
TZOFFSETFROM:-0500
TZOFFSETTO:-0600
TZNAME:CST
DTSTART:20251102T070000
END:STANDARD
BEGIN:DAYLIGHT
TZOFFSETFROM:-0600
TZOFFSETTO:-0500
TZNAME:CDT
DTSTART:20260308T080000
END:DAYLIGHT
BEGIN:STANDARD
TZOFFSETFROM:-0500
TZOFFSETTO:-0600
TZNAME:CST
DTSTART:20261101T070000
END:STANDARD
END:VTIMEZONE
BEGIN:VEVENT
DTSTART;TZID=America/Chicago:20250617T090000
DTEND;TZID=America/Chicago:20250617T130000
DTSTAMP:20260425T220731
CREATED:20250219T214435Z
LAST-MODIFIED:20250219T214435Z
UID:32987-1750150800-1750165200@www.lakebarringtonshores.org
SUMMARY:AARP Driver Safety Course
DESCRIPTION:
URL:https://www.lakebarringtonshores.org/event/aarp-driver-safety-course-7/
CATEGORIES:Featured,Special Event
ATTACH;FMTTYPE=image/png:https://www.lakebarringtonshores.org/wp-content/uploads/2017/01/aarpDS_web.png
END:VEVENT
BEGIN:VEVENT
DTSTART;TZID=America/Chicago:20250610T100000
DTEND;TZID=America/Chicago:20250610T120000
DTSTAMP:20260425T220731
CREATED:20250220T183805Z
LAST-MODIFIED:20250220T183805Z
UID:32996-1749549600-1749556800@www.lakebarringtonshores.org
SUMMARY:Kid's Fishing Clinics
DESCRIPTION:
URL:https://www.lakebarringtonshores.org/event/kids-fishing-clinics-3/
CATEGORIES:Featured,Special Event
ATTACH;FMTTYPE=image/jpeg:https://www.lakebarringtonshores.org/wp-content/uploads/2025/02/21.jpg
END:VEVENT
BEGIN:VEVENT
DTSTART;TZID=America/Chicago:20250607T100000
DTEND;TZID=America/Chicago:20250607T110000
DTSTAMP:20260425T220731
CREATED:20250203T192342Z
LAST-MODIFIED:20250203T192343Z
UID:32957-1749290400-1749294000@www.lakebarringtonshores.org
SUMMARY:Pet Partners "Walk with Me" with Soul Harbour Ranch Therapy
DESCRIPTION:
URL:https://www.lakebarringtonshores.org/event/pet-partners-walk-with-me-with-soul-harbour-ranch-therapy/
CATEGORIES:Featured,Special Event
ATTACH;FMTTYPE=image/jpeg:https://www.lakebarringtonshores.org/wp-content/uploads/2025/02/06-08-24_IMG_3065.01.jpg
END:VEVENT
BEGIN:VEVENT
DTSTART;TZID=America/Chicago:20250708T093000
DTEND;TZID=America/Chicago:20250708T110000
DTSTAMP:20260425T220731
CREATED:20250529T205326Z
LAST-MODIFIED:20250529T205326Z
UID:33086-1751967000-1751972400@www.lakebarringtonshores.org
SUMMARY:Women in History
DESCRIPTION:
URL:https://www.lakebarringtonshores.org/event/women-in-history/
CATEGORIES:Featured,Special Event
END:VEVENT
BEGIN:VEVENT
DTSTART;TZID=America/Chicago:20250610T100000
DTEND;TZID=America/Chicago:20250610T120000
DTSTAMP:20260425T220731
CREATED:20250220T183805Z
LAST-MODIFIED:20250220T183805Z
UID:32996-1749549600-1749556800@www.lakebarringtonshores.org
SUMMARY:Kid's Fishing Clinics
DESCRIPTION:
URL:https://www.lakebarringtonshores.org/event/kids-fishing-clinics-3/
CATEGORIES:Featured,Special Event
ATTACH;FMTTYPE=image/jpeg:https://www.lakebarringtonshores.org/wp-content/uploads/2025/02/21.jpg
END:VEVENT
BEGIN:VEVENT
DTSTART;TZID=America/Chicago:20250617T100000
DTEND;TZID=America/Chicago:20250617T120000
DTSTAMP:20260425T220731
CREATED:20250220T185325Z
LAST-MODIFIED:20250220T185416Z
UID:33001-1750154400-1750161600@www.lakebarringtonshores.org
SUMMARY:Adult Fishing Clinic
DESCRIPTION:
URL:https://www.lakebarringtonshores.org/event/adult-fishing-clinic-4/
CATEGORIES:Featured,Special Event
ATTACH;FMTTYPE=image/jpeg:https://www.lakebarringtonshores.org/wp-content/uploads/2025/02/7.jpg
END:VEVENT
BEGIN:VEVENT
DTSTART;TZID=America/Chicago:20250607T100000
DTEND;TZID=America/Chicago:20250607T110000
DTSTAMP:20260425T220731
CREATED:20250203T192342Z
LAST-MODIFIED:20250203T192343Z
UID:32957-1749290400-1749294000@www.lakebarringtonshores.org
SUMMARY:Pet Partners "Walk with Me" with Soul Harbour Ranch Therapy
DESCRIPTION:
URL:https://www.lakebarringtonshores.org/event/pet-partners-walk-with-me-with-soul-harbour-ranch-therapy/
CATEGORIES:Featured,Special Event
ATTACH;FMTTYPE=image/jpeg:https://www.lakebarringtonshores.org/wp-content/uploads/2025/02/06-08-24_IMG_3065.01.jpg
END:VEVENT
BEGIN:VEVENT
DTSTART;TZID=America/Chicago:20250924T173000
DTEND;TZID=America/Chicago:20250924T193000
DTSTAMP:20260425T220731
CREATED:20250912T141911Z
LAST-MODIFIED:20250912T141911Z
UID:33167-1758735000-1758742200@www.lakebarringtonshores.org
SUMMARY:Bonfire on the Beach
DESCRIPTION:
URL:https://www.lakebarringtonshores.org/event/bonfire-on-the-beach-8/
CATEGORIES:Featured,Special Event
END:VEVENT
BEGIN:VEVENT
DTSTART;TZID=America/Chicago:20251017T170000
DTEND;TZID=America/Chicago:20251017T193000
DTSTAMP:20260425T220731
CREATED:20251003T140347Z
LAST-MODIFIED:20251003T140347Z
UID:33199-1760720400-1760729400@www.lakebarringtonshores.org
SUMMARY:Haunted Hike
DESCRIPTION:
URL:https://www.lakebarringtonshores.org/event/haunted-hike-4/
CATEGORIES:Featured,Special Event
ATTACH;FMTTYPE=image/jpeg:https://www.lakebarringtonshores.org/wp-content/uploads/2025/10/Haunted-Hike-5.pdf.jpg
END:VEVENT
BEGIN:VEVENT
DTSTART;TZID=America/Chicago:20251119T173000
DTEND;TZID=America/Chicago:20251119T190000
DTSTAMP:20260425T220731
CREATED:20251002T214926Z
LAST-MODIFIED:20251002T214927Z
UID:33195-1763573400-1763578800@www.lakebarringtonshores.org
SUMMARY:Oh My Pie!
DESCRIPTION:
URL:https://www.lakebarringtonshores.org/event/oh-my-pie/
CATEGORIES:Featured,Special Event
ATTACH;FMTTYPE=image/jpeg:https://www.lakebarringtonshores.org/wp-content/uploads/2025/10/Oh-My-Pie-8.5-x-11-in-1.jpg
END:VEVENT
BEGIN:VEVENT
DTSTART;TZID=America/Chicago:20251207T083000
DTEND;TZID=America/Chicago:20251207T123000
DTSTAMP:20260425T220731
CREATED:20250917T204430Z
LAST-MODIFIED:20250917T204430Z
UID:33174-1765096200-1765110600@www.lakebarringtonshores.org
SUMMARY:Breakfast with Santa
DESCRIPTION:Register Here after 9:00am on September 29th: \nhttps://firstserviceresidential.myeventscenter.com/event/Breakfast-With-Santa-117119
URL:https://www.lakebarringtonshores.org/event/breakfast-with-santa-8/
CATEGORIES:Featured,Special Event
ATTACH;FMTTYPE=image/jpeg:https://www.lakebarringtonshores.org/wp-content/uploads/2025/09/Breakfast-with-Santa-Flyer-2025-2.jpg
END:VEVENT
END:VCALENDAR