BEGIN:VCALENDAR
VERSION:2.0
PRODID:-//Lake Barrington Shores - ECPv6.15.17//NONSGML v1.0//EN
CALSCALE:GREGORIAN
METHOD:PUBLISH
X-ORIGINAL-URL:https://www.lakebarringtonshores.org
X-WR-CALDESC:Events for Lake Barrington Shores
REFRESH-INTERVAL;VALUE=DURATION:PT1H
X-Robots-Tag:noindex
X-PUBLISHED-TTL:PT1H
BEGIN:VTIMEZONE
TZID:America/Chicago
BEGIN:DAYLIGHT
TZOFFSETFROM:-0600
TZOFFSETTO:-0500
TZNAME:CDT
DTSTART:20220313T080000
END:DAYLIGHT
BEGIN:STANDARD
TZOFFSETFROM:-0500
TZOFFSETTO:-0600
TZNAME:CST
DTSTART:20221106T070000
END:STANDARD
BEGIN:DAYLIGHT
TZOFFSETFROM:-0600
TZOFFSETTO:-0500
TZNAME:CDT
DTSTART:20230312T080000
END:DAYLIGHT
BEGIN:STANDARD
TZOFFSETFROM:-0500
TZOFFSETTO:-0600
TZNAME:CST
DTSTART:20231105T070000
END:STANDARD
BEGIN:DAYLIGHT
TZOFFSETFROM:-0600
TZOFFSETTO:-0500
TZNAME:CDT
DTSTART:20240310T080000
END:DAYLIGHT
BEGIN:STANDARD
TZOFFSETFROM:-0500
TZOFFSETTO:-0600
TZNAME:CST
DTSTART:20241103T070000
END:STANDARD
BEGIN:DAYLIGHT
TZOFFSETFROM:-0600
TZOFFSETTO:-0500
TZNAME:CDT
DTSTART:20250309T080000
END:DAYLIGHT
BEGIN:STANDARD
TZOFFSETFROM:-0500
TZOFFSETTO:-0600
TZNAME:CST
DTSTART:20251102T070000
END:STANDARD
END:VTIMEZONE
BEGIN:VEVENT
DTSTART;TZID=America/Chicago:20240620T170000
DTEND;TZID=America/Chicago:20240620T190000
DTSTAMP:20260424T141011
CREATED:20240409T150547Z
LAST-MODIFIED:20240409T150548Z
UID:32493-1718902800-1718910000@www.lakebarringtonshores.org
SUMMARY:Pontoon Yoga
DESCRIPTION:
URL:https://www.lakebarringtonshores.org/event/pontoon-yoga/
CATEGORIES:Featured,Special Event
ATTACH;FMTTYPE=image/jpeg:https://www.lakebarringtonshores.org/wp-content/uploads/2024/04/1-1-scaled.jpg
END:VEVENT
BEGIN:VEVENT
DTSTART;TZID=America/Chicago:20240618T100000
DTEND;TZID=America/Chicago:20240618T120000
DTSTAMP:20260424T141011
CREATED:20240404T182926Z
LAST-MODIFIED:20240404T182926Z
UID:32437-1718704800-1718712000@www.lakebarringtonshores.org
SUMMARY:Adult Fishing Clinic
DESCRIPTION:
URL:https://www.lakebarringtonshores.org/event/adult-fishing-clinic-3/
CATEGORIES:Featured,Special Event
END:VEVENT
BEGIN:VEVENT
DTSTART;TZID=America/Chicago:20240608T100000
DTEND;TZID=America/Chicago:20240608T110000
DTSTAMP:20260424T141011
CREATED:20240404T192706Z
LAST-MODIFIED:20240404T192706Z
UID:32453-1717840800-1717844400@www.lakebarringtonshores.org
SUMMARY:Pet Partners "Walk with Me" with SOUL Harbour Ranch
DESCRIPTION:Lake Barrington Shores is proud to partner with SOUL Harbour Ranch and the Pet Partners “Walk with Me” program! \nYou already know walking is good for you. But did you know that people who walk with an animal are more likely to meet physical activity recommendations? LBS residents and their guests are encouraged to come walk (with or without your pet) and we’ll be joined by our friends at Soul Harbor Ranch and their mini therapy horses and therapy dogs. The little guys will accompany us on our walk to get their daily exercise! \n2024 WALK WITH ME DATES \nSaturdays: June 8\, July 13\, August 10 at 10:00am \nMeet at Marina Rooftop. 30 minute walk followed by 30 minute social. Weather Permitting. No sign-up required. \n**The SOUL Harbour Ranch Animal Therapy Program (501(c)3) offers Animal-Assisted Interventions (fun activity\, therapy and educational visits and programs) within the Barrington and surrounding communities with their registered mini therapy horses\, mini therapy donkeys and therapy dogs. They visit nursing homes\, homes for the disabled\, community outings and even hospitals!
URL:https://www.lakebarringtonshores.org/event/pet-partners-walk-with-me-with-soul-harbour-ranch/
CATEGORIES:Featured,Special Event
ATTACH;FMTTYPE=image/jpeg:https://www.lakebarringtonshores.org/wp-content/uploads/2024/04/WWM_LogoHorizontal-1024x258-1.jpg
END:VEVENT
BEGIN:VEVENT
DTSTART;TZID=America/Chicago:20240625T093000
DTEND;TZID=America/Chicago:20240625T110000
DTSTAMP:20260424T141011
CREATED:20240409T150130Z
LAST-MODIFIED:20240409T150130Z
UID:32489-1719307800-1719313200@www.lakebarringtonshores.org
SUMMARY:Sacagawea
DESCRIPTION:
URL:https://www.lakebarringtonshores.org/event/sacagawea/
CATEGORIES:Featured,Special Event
ATTACH;FMTTYPE=image/jpeg:https://www.lakebarringtonshores.org/wp-content/uploads/2024/04/7012441-orig.jpg
END:VEVENT
BEGIN:VEVENT
DTSTART;TZID=America/Chicago:20240620T170000
DTEND;TZID=America/Chicago:20240620T190000
DTSTAMP:20260424T141011
CREATED:20240409T150547Z
LAST-MODIFIED:20240409T150548Z
UID:32493-1718902800-1718910000@www.lakebarringtonshores.org
SUMMARY:Pontoon Yoga
DESCRIPTION:
URL:https://www.lakebarringtonshores.org/event/pontoon-yoga/
CATEGORIES:Featured,Special Event
ATTACH;FMTTYPE=image/jpeg:https://www.lakebarringtonshores.org/wp-content/uploads/2024/04/1-1-scaled.jpg
END:VEVENT
BEGIN:VEVENT
DTSTART;TZID=America/Chicago:20240618T100000
DTEND;TZID=America/Chicago:20240618T120000
DTSTAMP:20260424T141011
CREATED:20240404T182926Z
LAST-MODIFIED:20240404T182926Z
UID:32437-1718704800-1718712000@www.lakebarringtonshores.org
SUMMARY:Adult Fishing Clinic
DESCRIPTION:
URL:https://www.lakebarringtonshores.org/event/adult-fishing-clinic-3/
CATEGORIES:Featured,Special Event
END:VEVENT
BEGIN:VEVENT
DTSTART;TZID=America/Chicago:20240611T090000
DTEND;TZID=America/Chicago:20240611T130000
DTSTAMP:20260424T141011
CREATED:20240404T195052Z
LAST-MODIFIED:20240404T195052Z
UID:32457-1718096400-1718110800@www.lakebarringtonshores.org
SUMMARY:AARP Driver Safety Course
DESCRIPTION:
URL:https://www.lakebarringtonshores.org/event/aarp-driver-safety-course-6/
CATEGORIES:Featured,Special Event
ATTACH;FMTTYPE=image/png:https://www.lakebarringtonshores.org/wp-content/uploads/2017/01/aarpDS_web.png
END:VEVENT
BEGIN:VEVENT
DTSTART;TZID=America/Chicago:20240611T090000
DTEND;TZID=America/Chicago:20240611T130000
DTSTAMP:20260424T141011
CREATED:20240404T195052Z
LAST-MODIFIED:20240404T195052Z
UID:32457-1718096400-1718110800@www.lakebarringtonshores.org
SUMMARY:AARP Driver Safety Course
DESCRIPTION:
URL:https://www.lakebarringtonshores.org/event/aarp-driver-safety-course-6/
CATEGORIES:Featured,Special Event
ATTACH;FMTTYPE=image/png:https://www.lakebarringtonshores.org/wp-content/uploads/2017/01/aarpDS_web.png
END:VEVENT
BEGIN:VEVENT
DTSTART;TZID=America/Chicago:20240608T100000
DTEND;TZID=America/Chicago:20240608T110000
DTSTAMP:20260424T141011
CREATED:20240404T192706Z
LAST-MODIFIED:20240404T192706Z
UID:32453-1717840800-1717844400@www.lakebarringtonshores.org
SUMMARY:Pet Partners "Walk with Me" with SOUL Harbour Ranch
DESCRIPTION:Lake Barrington Shores is proud to partner with SOUL Harbour Ranch and the Pet Partners “Walk with Me” program! \nYou already know walking is good for you. But did you know that people who walk with an animal are more likely to meet physical activity recommendations? LBS residents and their guests are encouraged to come walk (with or without your pet) and we’ll be joined by our friends at Soul Harbor Ranch and their mini therapy horses and therapy dogs. The little guys will accompany us on our walk to get their daily exercise! \n2024 WALK WITH ME DATES \nSaturdays: June 8\, July 13\, August 10 at 10:00am \nMeet at Marina Rooftop. 30 minute walk followed by 30 minute social. Weather Permitting. No sign-up required. \n**The SOUL Harbour Ranch Animal Therapy Program (501(c)3) offers Animal-Assisted Interventions (fun activity\, therapy and educational visits and programs) within the Barrington and surrounding communities with their registered mini therapy horses\, mini therapy donkeys and therapy dogs. They visit nursing homes\, homes for the disabled\, community outings and even hospitals!
URL:https://www.lakebarringtonshores.org/event/pet-partners-walk-with-me-with-soul-harbour-ranch/
CATEGORIES:Featured,Special Event
ATTACH;FMTTYPE=image/jpeg:https://www.lakebarringtonshores.org/wp-content/uploads/2024/04/WWM_LogoHorizontal-1024x258-1.jpg
END:VEVENT
BEGIN:VEVENT
DTSTART;TZID=America/Chicago:20240509T080000
DTEND;TZID=America/Chicago:20240509T120000
DTSTAMP:20260424T141011
CREATED:20240409T144310Z
LAST-MODIFIED:20240409T144311Z
UID:32469-1715241600-1715256000@www.lakebarringtonshores.org
SUMMARY:Blood Drive
DESCRIPTION:
URL:https://www.lakebarringtonshores.org/event/blood-drive-6/
CATEGORIES:Featured,Special Event
ATTACH;FMTTYPE=image/jpeg:https://www.lakebarringtonshores.org/wp-content/uploads/2021/04/ATSD_20_Blood-Drive.jpg
END:VEVENT
BEGIN:VEVENT
DTSTART;TZID=America/Chicago:20240502T170000
DTEND;TZID=America/Chicago:20240502T190000
DTSTAMP:20260424T141011
CREATED:20240409T143324Z
LAST-MODIFIED:20240409T143324Z
UID:32466-1714669200-1714676400@www.lakebarringtonshores.org
SUMMARY:LBS Fiesta!
DESCRIPTION:
URL:https://www.lakebarringtonshores.org/event/lbs-fiesta/
CATEGORIES:Featured,Special Event
ATTACH;FMTTYPE=image/png:https://www.lakebarringtonshores.org/wp-content/uploads/2023/03/HU0790_1445x.png
END:VEVENT
BEGIN:VEVENT
DTSTART;TZID=America/Chicago:20240426T130000
DTEND;TZID=America/Chicago:20240426T163000
DTSTAMP:20260424T141011
CREATED:20240404T191704Z
LAST-MODIFIED:20240404T192211Z
UID:32449-1714136400-1714149000@www.lakebarringtonshores.org
SUMMARY:Arbor Day Celebration
DESCRIPTION:
URL:https://www.lakebarringtonshores.org/event/arbor-day-celebration/
CATEGORIES:Featured,Special Event
ATTACH;FMTTYPE=image/png:https://www.lakebarringtonshores.org/wp-content/uploads/2024/04/Untitled-design-1.png
END:VEVENT
BEGIN:VEVENT
DTSTART;TZID=America/Chicago:20240420T083000
DTEND;TZID=America/Chicago:20240420T113000
DTSTAMP:20260424T141011
CREATED:20240404T190401Z
LAST-MODIFIED:20240404T191506Z
UID:32446-1713601800-1713612600@www.lakebarringtonshores.org
SUMMARY:Shredding & Recycling Event
DESCRIPTION:
URL:https://www.lakebarringtonshores.org/event/shredding-recycling-event/
CATEGORIES:Featured,Special Event
ATTACH;FMTTYPE=image/png:https://www.lakebarringtonshores.org/wp-content/uploads/2021/08/Shred-Day_595px.png
END:VEVENT
BEGIN:VEVENT
DTSTART;TZID=America/Chicago:20240417T093000
DTEND;TZID=America/Chicago:20240417T110000
DTSTAMP:20260424T141011
CREATED:20240409T144927Z
LAST-MODIFIED:20240409T144928Z
UID:32472-1713346200-1713351600@www.lakebarringtonshores.org
SUMMARY:Lucy!
DESCRIPTION:
URL:https://www.lakebarringtonshores.org/event/lucy/
CATEGORIES:Featured,Special Event
END:VEVENT
BEGIN:VEVENT
DTSTART;TZID=America/Chicago:20240411T190000
DTEND;TZID=America/Chicago:20240411T200000
DTSTAMP:20260424T141011
CREATED:20240409T145119Z
LAST-MODIFIED:20240409T145120Z
UID:32476-1712862000-1712865600@www.lakebarringtonshores.org
SUMMARY:How to Save Money on Your Energy Bill
DESCRIPTION:
URL:https://www.lakebarringtonshores.org/event/how-to-save-money-on-your-energy-bill/
CATEGORIES:Featured,Special Event
END:VEVENT
BEGIN:VEVENT
DTSTART;TZID=America/Chicago:20240411T180000
DTEND;TZID=America/Chicago:20240411T183000
DTSTAMP:20260424T141011
CREATED:20240229T175236Z
LAST-MODIFIED:20240229T175237Z
UID:32373-1712858400-1712860200@www.lakebarringtonshores.org
SUMMARY:Marina Locker Lottery
DESCRIPTION:
URL:https://www.lakebarringtonshores.org/event/marina-locker-lottery-2/
CATEGORIES:Featured,Special Event
ATTACH;FMTTYPE=image/jpeg:https://www.lakebarringtonshores.org/wp-content/uploads/2023/02/07-23-15_IMG_3624.02-scaled.jpg
END:VEVENT
BEGIN:VEVENT
DTSTART;TZID=America/Chicago:20240319T100000
DTEND;TZID=America/Chicago:20240319T120000
DTSTAMP:20260424T141011
CREATED:20240305T150737Z
LAST-MODIFIED:20240305T151035Z
UID:32384-1710842400-1710849600@www.lakebarringtonshores.org
SUMMARY:Vietnam Era Veterans Ceremony
DESCRIPTION:
URL:https://www.lakebarringtonshores.org/event/vietnam-era-veterans-ceremony/
CATEGORIES:Featured,Special Event
ATTACH;FMTTYPE=image/jpeg:https://www.lakebarringtonshores.org/wp-content/uploads/2024/03/VeteransLBS-logo-1.jpg
END:VEVENT
BEGIN:VEVENT
DTSTART;TZID=America/Chicago:20240316T093000
DTEND;TZID=America/Chicago:20240316T113000
DTSTAMP:20260424T141011
CREATED:20240229T175721Z
LAST-MODIFIED:20240229T175909Z
UID:32377-1710581400-1710588600@www.lakebarringtonshores.org
SUMMARY:Breakfast with the Easter Bunny
DESCRIPTION:
URL:https://www.lakebarringtonshores.org/event/breakfast-with-the-easter-bunny-4/
CATEGORIES:Featured,Special Event
ATTACH;FMTTYPE=image/jpeg:https://www.lakebarringtonshores.org/wp-content/uploads/2022/03/Breakfast-with-Easter-Bunny.jpg
END:VEVENT
BEGIN:VEVENT
DTSTART;TZID=America/Chicago:20240314T183000
DTEND;TZID=America/Chicago:20240314T210000
DTSTAMP:20260424T141011
CREATED:20240111T163517Z
LAST-MODIFIED:20240111T163518Z
UID:32326-1710441000-1710450000@www.lakebarringtonshores.org
SUMMARY:Trivia Night
DESCRIPTION:
URL:https://www.lakebarringtonshores.org/event/trivia-night-11/
CATEGORIES:Featured,Special Event
ATTACH;FMTTYPE=image/png:https://www.lakebarringtonshores.org/wp-content/uploads/2023/05/Trivia-Night.png
END:VEVENT
BEGIN:VEVENT
DTSTART;TZID=America/Chicago:20240122T180000
DTEND;TZID=America/Chicago:20240122T190000
DTSTAMP:20260424T141011
CREATED:20231218T183757Z
LAST-MODIFIED:20231220T151514Z
UID:32292-1705946400-1705950000@www.lakebarringtonshores.org
SUMMARY:Escapes by Design - Escape to Italy
DESCRIPTION:
URL:https://www.lakebarringtonshores.org/event/escapes-by-design-escape-to-italy/
CATEGORIES:Featured,Special Event
END:VEVENT
BEGIN:VEVENT
DTSTART;TZID=America/Chicago:20231209T083000
DTEND;TZID=America/Chicago:20231209T120000
DTSTAMP:20260424T141011
CREATED:20231110T020907Z
LAST-MODIFIED:20231110T020908Z
UID:32026-1702110600-1702123200@www.lakebarringtonshores.org
SUMMARY:Breakfast with Santa
DESCRIPTION:
URL:https://www.lakebarringtonshores.org/event/breakfast-with-santa-6/
CATEGORIES:Featured,Special Event
ATTACH;FMTTYPE=image/png:https://www.lakebarringtonshores.org/wp-content/uploads/2022/09/Document.png
END:VEVENT
BEGIN:VEVENT
DTSTART;TZID=America/Chicago:20231103T170000
DTEND;TZID=America/Chicago:20231103T200000
DTSTAMP:20260424T141011
CREATED:20231019T171639Z
LAST-MODIFIED:20231019T171639Z
UID:32004-1699030800-1699041600@www.lakebarringtonshores.org
SUMMARY:Holiday Arts and Gift Show
DESCRIPTION:
URL:https://www.lakebarringtonshores.org/event/holiday-arts-and-gift-show-7/
CATEGORIES:Featured,Special Event
ATTACH;FMTTYPE=image/png:https://www.lakebarringtonshores.org/wp-content/uploads/2023/10/Holiday-Show-Facebook-Cover.png
END:VEVENT
BEGIN:VEVENT
DTSTART;TZID=America/Chicago:20231103T170000
DTEND;TZID=America/Chicago:20231103T200000
DTSTAMP:20260424T141011
CREATED:20231019T171639Z
LAST-MODIFIED:20231019T171639Z
UID:32004-1699030800-1699041600@www.lakebarringtonshores.org
SUMMARY:Holiday Arts and Gift Show
DESCRIPTION:
URL:https://www.lakebarringtonshores.org/event/holiday-arts-and-gift-show-7/
CATEGORIES:Featured,Special Event
ATTACH;FMTTYPE=image/png:https://www.lakebarringtonshores.org/wp-content/uploads/2023/10/Holiday-Show-Facebook-Cover.png
END:VEVENT
BEGIN:VEVENT
DTSTART;TZID=America/Chicago:20231023T183000
DTEND;TZID=America/Chicago:20231023T210000
DTSTAMP:20260424T141011
CREATED:20230811T201613Z
LAST-MODIFIED:20230811T201613Z
UID:31932-1698085800-1698094800@www.lakebarringtonshores.org
SUMMARY:Trivia Night
DESCRIPTION:
URL:https://www.lakebarringtonshores.org/event/trivia-night-10/
CATEGORIES:Featured,Special Event
ATTACH;FMTTYPE=image/png:https://www.lakebarringtonshores.org/wp-content/uploads/2023/05/Trivia-Night.png
END:VEVENT
BEGIN:VEVENT
DTSTART;TZID=America/Chicago:20231013T180000
DTEND;TZID=America/Chicago:20231013T220000
DTSTAMP:20260424T141011
CREATED:20230908T185932Z
LAST-MODIFIED:20230908T185932Z
UID:31971-1697220000-1697234400@www.lakebarringtonshores.org
SUMMARY:LBS Golden Gala
DESCRIPTION:
URL:https://www.lakebarringtonshores.org/event/lbs-golden-gala/
CATEGORIES:Featured,Special Event
ATTACH;FMTTYPE=image/png:https://www.lakebarringtonshores.org/wp-content/uploads/2023/02/5763_LBS-50th-Anniversary-Logo.c6.Flag_.png
END:VEVENT
BEGIN:VEVENT
DTSTART;TZID=America/Chicago:20231005T093000
DTEND;TZID=America/Chicago:20231005T110000
DTSTAMP:20260424T141011
CREATED:20230908T163727Z
LAST-MODIFIED:20230908T163727Z
UID:31964-1696498200-1696503600@www.lakebarringtonshores.org
SUMMARY:Ed James and The Development of LBS
DESCRIPTION:
URL:https://www.lakebarringtonshores.org/event/ed-james-and-the-development-of-lbs/
CATEGORIES:Featured,Special Event
ATTACH;FMTTYPE=image/jpeg:https://www.lakebarringtonshores.org/wp-content/uploads/2023/09/lake-barrinton-shores-arial-1030x785-1.jpg
END:VEVENT
BEGIN:VEVENT
DTSTART;TZID=America/Chicago:20230928T173000
DTEND;TZID=America/Chicago:20230928T193000
DTSTAMP:20260424T141011
CREATED:20230908T163007Z
LAST-MODIFIED:20230908T163610Z
UID:31961-1695922200-1695929400@www.lakebarringtonshores.org
SUMMARY:Bonfire on the Beach
DESCRIPTION:
URL:https://www.lakebarringtonshores.org/event/bonfire-on-the-beach-6/
CATEGORIES:Featured,Special Event
ATTACH;FMTTYPE=image/jpeg:https://www.lakebarringtonshores.org/wp-content/uploads/2019/08/IMG_2325.jpg
END:VEVENT
BEGIN:VEVENT
DTSTART;TZID=America/Chicago:20230928T090000
DTEND;TZID=America/Chicago:20230928T130000
DTSTAMP:20260424T141011
CREATED:20230810T173804Z
LAST-MODIFIED:20230908T162830Z
UID:31928-1695891600-1695906000@www.lakebarringtonshores.org
SUMMARY:Flu Shots
DESCRIPTION:Informed Consent for Immunization
URL:https://www.lakebarringtonshores.org/event/flu-shots-3/
CATEGORIES:Featured,Special Event
ATTACH;FMTTYPE=image/png:https://www.lakebarringtonshores.org/wp-content/uploads/2021/10/flu-shots-how-do-they-work-_780x350.png
END:VEVENT
BEGIN:VEVENT
DTSTART;TZID=America/Chicago:20230912T173000
DTEND;TZID=America/Chicago:20230912T194500
DTSTAMP:20260424T141011
CREATED:20230908T162726Z
LAST-MODIFIED:20230908T162726Z
UID:31958-1694539800-1694547900@www.lakebarringtonshores.org
SUMMARY:Concert in the Park: Billy Elton
DESCRIPTION:
URL:https://www.lakebarringtonshores.org/event/concert-in-the-park-billy-elton-2/
CATEGORIES:Featured,Special Event
ATTACH;FMTTYPE=image/png:https://www.lakebarringtonshores.org/wp-content/uploads/2023/04/concertinpark.png
END:VEVENT
BEGIN:VEVENT
DTSTART;TZID=America/Chicago:20230909T083000
DTEND;TZID=America/Chicago:20230909T113000
DTSTAMP:20260424T141011
CREATED:20230713T152819Z
LAST-MODIFIED:20230713T152819Z
UID:31858-1694248200-1694259000@www.lakebarringtonshores.org
SUMMARY:Paper Shredding
DESCRIPTION:
URL:https://www.lakebarringtonshores.org/event/paper-shredding-3/
CATEGORIES:Featured,Special Event
ATTACH;FMTTYPE=image/jpeg:https://www.lakebarringtonshores.org/wp-content/uploads/2023/07/shred_paper_frog_655px.jpg
END:VEVENT
END:VCALENDAR